BEGIN:VCALENDAR
VERSION:2.0
PRODID:-//Goleta Valley Athletic Club | Best Gym in Santa Barbara - ECPv6.15.20//NONSGML v1.0//EN
CALSCALE:GREGORIAN
METHOD:PUBLISH
X-WR-CALNAME:Goleta Valley Athletic Club | Best Gym in Santa Barbara
X-ORIGINAL-URL:https://gvac.com
X-WR-CALDESC:Events for Goleta Valley Athletic Club | Best Gym in Santa Barbara
REFRESH-INTERVAL;VALUE=DURATION:PT1H
X-Robots-Tag:noindex
X-PUBLISHED-TTL:PT1H
BEGIN:VTIMEZONE
TZID:America/Los_Angeles
BEGIN:DAYLIGHT
TZOFFSETFROM:-0800
TZOFFSETTO:-0700
TZNAME:PDT
DTSTART:20290311T100000
END:DAYLIGHT
BEGIN:STANDARD
TZOFFSETFROM:-0700
TZOFFSETTO:-0800
TZNAME:PST
DTSTART:20291104T090000
END:STANDARD
BEGIN:DAYLIGHT
TZOFFSETFROM:-0800
TZOFFSETTO:-0700
TZNAME:PDT
DTSTART:20300310T100000
END:DAYLIGHT
BEGIN:STANDARD
TZOFFSETFROM:-0700
TZOFFSETTO:-0800
TZNAME:PST
DTSTART:20301103T090000
END:STANDARD
BEGIN:DAYLIGHT
TZOFFSETFROM:-0800
TZOFFSETTO:-0700
TZNAME:PDT
DTSTART:20310309T100000
END:DAYLIGHT
BEGIN:STANDARD
TZOFFSETFROM:-0700
TZOFFSETTO:-0800
TZNAME:PST
DTSTART:20311102T090000
END:STANDARD
END:VTIMEZONE
BEGIN:VEVENT
DTSTART;TZID=America/Los_Angeles:20300930T174500
DTEND;TZID=America/Los_Angeles:20300930T184500
DTSTAMP:20260423T165209
CREATED:20251222T220952Z
LAST-MODIFIED:20251222T222346Z
UID:10010494-1917020700-1917024300@gvac.com
SUMMARY:Indoor Cycling\, Marisa
DESCRIPTION:
URL:https://gvac.com/event/indoor-cycling-marisa-2-2/2030-09-30/
LOCATION:Goleta Valley Athletic Club\, 170 Los Carneros Way\, Goleta\, CA\, 93117\, United States
CATEGORIES:Indoor Cycling
END:VEVENT
BEGIN:VEVENT
DTSTART;TZID=America/Los_Angeles:20301002T174500
DTEND;TZID=America/Los_Angeles:20301002T184500
DTSTAMP:20260423T165209
CREATED:20251222T220952Z
LAST-MODIFIED:20251222T222346Z
UID:10010495-1917193500-1917197100@gvac.com
SUMMARY:Indoor Cycling\, Marisa
DESCRIPTION:
URL:https://gvac.com/event/indoor-cycling-marisa-2-2/2030-10-02/
LOCATION:Goleta Valley Athletic Club\, 170 Los Carneros Way\, Goleta\, CA\, 93117\, United States
CATEGORIES:Indoor Cycling
END:VEVENT
BEGIN:VEVENT
DTSTART;TZID=America/Los_Angeles:20301007T174500
DTEND;TZID=America/Los_Angeles:20301007T184500
DTSTAMP:20260423T165209
CREATED:20251222T220952Z
LAST-MODIFIED:20251222T222346Z
UID:10010512-1917625500-1917629100@gvac.com
SUMMARY:Indoor Cycling\, Marisa
DESCRIPTION:
URL:https://gvac.com/event/indoor-cycling-marisa-2-2/2030-10-07/
LOCATION:Goleta Valley Athletic Club\, 170 Los Carneros Way\, Goleta\, CA\, 93117\, United States
CATEGORIES:Indoor Cycling
END:VEVENT
BEGIN:VEVENT
DTSTART;TZID=America/Los_Angeles:20301009T174500
DTEND;TZID=America/Los_Angeles:20301009T184500
DTSTAMP:20260423T165209
CREATED:20251222T220952Z
LAST-MODIFIED:20251222T222346Z
UID:10010563-1917798300-1917801900@gvac.com
SUMMARY:Indoor Cycling\, Marisa
DESCRIPTION:
URL:https://gvac.com/event/indoor-cycling-marisa-2-2/2030-10-09/
LOCATION:Goleta Valley Athletic Club\, 170 Los Carneros Way\, Goleta\, CA\, 93117\, United States
CATEGORIES:Indoor Cycling
END:VEVENT
BEGIN:VEVENT
DTSTART;TZID=America/Los_Angeles:20301014T174500
DTEND;TZID=America/Los_Angeles:20301014T184500
DTSTAMP:20260423T165209
CREATED:20251222T220952Z
LAST-MODIFIED:20251222T222346Z
UID:10010564-1918230300-1918233900@gvac.com
SUMMARY:Indoor Cycling\, Marisa
DESCRIPTION:
URL:https://gvac.com/event/indoor-cycling-marisa-2-2/2030-10-14/
LOCATION:Goleta Valley Athletic Club\, 170 Los Carneros Way\, Goleta\, CA\, 93117\, United States
CATEGORIES:Indoor Cycling
END:VEVENT
BEGIN:VEVENT
DTSTART;TZID=America/Los_Angeles:20301016T174500
DTEND;TZID=America/Los_Angeles:20301016T184500
DTSTAMP:20260423T165209
CREATED:20251222T220952Z
LAST-MODIFIED:20251222T222346Z
UID:10010565-1918403100-1918406700@gvac.com
SUMMARY:Indoor Cycling\, Marisa
DESCRIPTION:
URL:https://gvac.com/event/indoor-cycling-marisa-2-2/2030-10-16/
LOCATION:Goleta Valley Athletic Club\, 170 Los Carneros Way\, Goleta\, CA\, 93117\, United States
CATEGORIES:Indoor Cycling
END:VEVENT
BEGIN:VEVENT
DTSTART;TZID=America/Los_Angeles:20301021T174500
DTEND;TZID=America/Los_Angeles:20301021T184500
DTSTAMP:20260423T165209
CREATED:20251222T220952Z
LAST-MODIFIED:20251222T222346Z
UID:10010566-1918835100-1918838700@gvac.com
SUMMARY:Indoor Cycling\, Marisa
DESCRIPTION:
URL:https://gvac.com/event/indoor-cycling-marisa-2-2/2030-10-21/
LOCATION:Goleta Valley Athletic Club\, 170 Los Carneros Way\, Goleta\, CA\, 93117\, United States
CATEGORIES:Indoor Cycling
END:VEVENT
BEGIN:VEVENT
DTSTART;TZID=America/Los_Angeles:20301023T174500
DTEND;TZID=America/Los_Angeles:20301023T184500
DTSTAMP:20260423T165209
CREATED:20251222T220952Z
LAST-MODIFIED:20251222T222346Z
UID:10010627-1919007900-1919011500@gvac.com
SUMMARY:Indoor Cycling\, Marisa
DESCRIPTION:
URL:https://gvac.com/event/indoor-cycling-marisa-2-2/2030-10-23/
LOCATION:Goleta Valley Athletic Club\, 170 Los Carneros Way\, Goleta\, CA\, 93117\, United States
CATEGORIES:Indoor Cycling
END:VEVENT
BEGIN:VEVENT
DTSTART;TZID=America/Los_Angeles:20301028T174500
DTEND;TZID=America/Los_Angeles:20301028T184500
DTSTAMP:20260423T165209
CREATED:20251222T220952Z
LAST-MODIFIED:20251222T222346Z
UID:10010628-1919439900-1919443500@gvac.com
SUMMARY:Indoor Cycling\, Marisa
DESCRIPTION:
URL:https://gvac.com/event/indoor-cycling-marisa-2-2/2030-10-28/
LOCATION:Goleta Valley Athletic Club\, 170 Los Carneros Way\, Goleta\, CA\, 93117\, United States
CATEGORIES:Indoor Cycling
END:VEVENT
BEGIN:VEVENT
DTSTART;TZID=America/Los_Angeles:20301030T174500
DTEND;TZID=America/Los_Angeles:20301030T184500
DTSTAMP:20260423T165209
CREATED:20251222T220952Z
LAST-MODIFIED:20251222T222346Z
UID:10010629-1919612700-1919616300@gvac.com
SUMMARY:Indoor Cycling\, Marisa
DESCRIPTION:
URL:https://gvac.com/event/indoor-cycling-marisa-2-2/2030-10-30/
LOCATION:Goleta Valley Athletic Club\, 170 Los Carneros Way\, Goleta\, CA\, 93117\, United States
CATEGORIES:Indoor Cycling
END:VEVENT
END:VCALENDAR