BEGIN:VCALENDAR
VERSION:2.0
PRODID:-//Goleta Valley Athletic Club | Best Gym in Santa Barbara - ECPv6.15.20//NONSGML v1.0//EN
CALSCALE:GREGORIAN
METHOD:PUBLISH
X-WR-CALNAME:Goleta Valley Athletic Club | Best Gym in Santa Barbara
X-ORIGINAL-URL:https://gvac.com
X-WR-CALDESC:Events for Goleta Valley Athletic Club | Best Gym in Santa Barbara
REFRESH-INTERVAL;VALUE=DURATION:PT1H
X-Robots-Tag:noindex
X-PUBLISHED-TTL:PT1H
BEGIN:VTIMEZONE
TZID:America/Los_Angeles
BEGIN:DAYLIGHT
TZOFFSETFROM:-0800
TZOFFSETTO:-0700
TZNAME:PDT
DTSTART:20300310T100000
END:DAYLIGHT
BEGIN:STANDARD
TZOFFSETFROM:-0700
TZOFFSETTO:-0800
TZNAME:PST
DTSTART:20301103T090000
END:STANDARD
BEGIN:DAYLIGHT
TZOFFSETFROM:-0800
TZOFFSETTO:-0700
TZNAME:PDT
DTSTART:20310309T100000
END:DAYLIGHT
BEGIN:STANDARD
TZOFFSETFROM:-0700
TZOFFSETTO:-0800
TZNAME:PST
DTSTART:20311102T090000
END:STANDARD
BEGIN:DAYLIGHT
TZOFFSETFROM:-0800
TZOFFSETTO:-0700
TZNAME:PDT
DTSTART:20320314T100000
END:DAYLIGHT
BEGIN:STANDARD
TZOFFSETFROM:-0700
TZOFFSETTO:-0800
TZNAME:PST
DTSTART:20321107T090000
END:STANDARD
END:VTIMEZONE
BEGIN:VTIMEZONE
TZID:UTC
BEGIN:STANDARD
TZOFFSETFROM:+0000
TZOFFSETTO:+0000
TZNAME:UTC
DTSTART:20300101T000000
END:STANDARD
END:VTIMEZONE
BEGIN:VEVENT
DTSTART;TZID=America/Los_Angeles:20310401T163000
DTEND;TZID=America/Los_Angeles:20310401T171500
DTSTAMP:20260423T070825
CREATED:20251222T221544Z
LAST-MODIFIED:20251222T221548Z
UID:10012253-1932827400-1932830100@gvac.com
SUMMARY:Pilates Mat\, Sarah H.
DESCRIPTION:
URL:https://gvac.com/event/pilates-mat-sarah-2-2-3/2031-04-01/
LOCATION:Goleta Valley Athletic Club\, 170 Los Carneros Way\, Goleta\, CA\, 93117\, United States
CATEGORIES:Pilates
END:VEVENT
BEGIN:VEVENT
DTSTART;TZID=UTC:20310401T173000
DTEND;TZID=UTC:20310401T183000
DTSTAMP:20260423T070825
CREATED:20250929T183535Z
LAST-MODIFIED:20250929T183538Z
UID:10012245-1932831000-1932834600@gvac.com
SUMMARY:Pilates Group Reformer\, Sarah H. *PAID SESSIONS*
DESCRIPTION:$30 per session\, limited to 3 people.  Call to reserve a spot (805) 968-1023.
URL:https://gvac.com/event/pilates-group-reformer-sarah-h-paid-sessions-2-2/2031-04-01/
LOCATION:Goleta Valley Athletic Club\, 170 Los Carneros Way\, Goleta\, CA\, 93117\, United States
CATEGORIES:Pilates
END:VEVENT
BEGIN:VEVENT
DTSTART;TZID=America/Los_Angeles:20310403T163000
DTEND;TZID=America/Los_Angeles:20310403T171500
DTSTAMP:20260423T070825
CREATED:20251222T221544Z
LAST-MODIFIED:20251222T221548Z
UID:10012254-1933000200-1933002900@gvac.com
SUMMARY:Pilates Mat\, Sarah H.
DESCRIPTION:
URL:https://gvac.com/event/pilates-mat-sarah-2-2-3/2031-04-03/
LOCATION:Goleta Valley Athletic Club\, 170 Los Carneros Way\, Goleta\, CA\, 93117\, United States
CATEGORIES:Pilates
END:VEVENT
BEGIN:VEVENT
DTSTART;TZID=UTC:20310403T173000
DTEND;TZID=UTC:20310403T183000
DTSTAMP:20260423T070825
CREATED:20251016T055137Z
LAST-MODIFIED:20251016T184929Z
UID:10012261-1933003800-1933007400@gvac.com
SUMMARY:Pilates Group Reformer\, Sarah H. *PAID SESSIONS*
DESCRIPTION:$30 per session\, limited to 3 people.  Call to reserve a spot (805) 968-1023.
URL:https://gvac.com/event/pilates-group-reformer-sarah-h-paid-sessions-3-2-2/2031-04-03/
LOCATION:Goleta Valley Athletic Club\, 170 Los Carneros Way\, Goleta\, CA\, 93117\, United States
CATEGORIES:Pilates
END:VEVENT
BEGIN:VEVENT
DTSTART;TZID=UTC:20310404T133000
DTEND;TZID=UTC:20310404T143000
DTSTAMP:20260423T070825
CREATED:20260211T232117Z
LAST-MODIFIED:20260211T232122Z
UID:10012264-1933075800-1933079400@gvac.com
SUMMARY:Pilates Group Reformer\, Sarah H. *PAID SESSIONS*
DESCRIPTION:$30 per session\, limited to 3 people.  Call to reserve a spot (805) 968-1023.
URL:https://gvac.com/event/pilates-group-reformer-sarah-h-paid-sessions-5-2-3/2031-04-04/
LOCATION:Goleta Valley Athletic Club\, 170 Los Carneros Way\, Goleta\, CA\, 93117\, United States
CATEGORIES:Pilates
END:VEVENT
BEGIN:VEVENT
DTSTART;TZID=America/Los_Angeles:20310408T163000
DTEND;TZID=America/Los_Angeles:20310408T171500
DTSTAMP:20260423T070825
CREATED:20251222T221544Z
LAST-MODIFIED:20251222T221548Z
UID:10012283-1933432200-1933434900@gvac.com
SUMMARY:Pilates Mat\, Sarah H.
DESCRIPTION:
URL:https://gvac.com/event/pilates-mat-sarah-2-2-3/2031-04-08/
LOCATION:Goleta Valley Athletic Club\, 170 Los Carneros Way\, Goleta\, CA\, 93117\, United States
CATEGORIES:Pilates
END:VEVENT
BEGIN:VEVENT
DTSTART;TZID=UTC:20310408T173000
DTEND;TZID=UTC:20310408T183000
DTSTAMP:20260423T070825
CREATED:20250929T183535Z
LAST-MODIFIED:20250929T183538Z
UID:10012280-1933435800-1933439400@gvac.com
SUMMARY:Pilates Group Reformer\, Sarah H. *PAID SESSIONS*
DESCRIPTION:$30 per session\, limited to 3 people.  Call to reserve a spot (805) 968-1023.
URL:https://gvac.com/event/pilates-group-reformer-sarah-h-paid-sessions-2-2/2031-04-08/
LOCATION:Goleta Valley Athletic Club\, 170 Los Carneros Way\, Goleta\, CA\, 93117\, United States
CATEGORIES:Pilates
END:VEVENT
BEGIN:VEVENT
DTSTART;TZID=America/Los_Angeles:20310410T163000
DTEND;TZID=America/Los_Angeles:20310410T171500
DTSTAMP:20260423T070825
CREATED:20251222T221544Z
LAST-MODIFIED:20251222T221548Z
UID:10012284-1933605000-1933607700@gvac.com
SUMMARY:Pilates Mat\, Sarah H.
DESCRIPTION:
URL:https://gvac.com/event/pilates-mat-sarah-2-2-3/2031-04-10/
LOCATION:Goleta Valley Athletic Club\, 170 Los Carneros Way\, Goleta\, CA\, 93117\, United States
CATEGORIES:Pilates
END:VEVENT
BEGIN:VEVENT
DTSTART;TZID=UTC:20310410T173000
DTEND;TZID=UTC:20310410T183000
DTSTAMP:20260423T070825
CREATED:20251016T055137Z
LAST-MODIFIED:20251016T184929Z
UID:10012289-1933608600-1933612200@gvac.com
SUMMARY:Pilates Group Reformer\, Sarah H. *PAID SESSIONS*
DESCRIPTION:$30 per session\, limited to 3 people.  Call to reserve a spot (805) 968-1023.
URL:https://gvac.com/event/pilates-group-reformer-sarah-h-paid-sessions-3-2-2/2031-04-10/
LOCATION:Goleta Valley Athletic Club\, 170 Los Carneros Way\, Goleta\, CA\, 93117\, United States
CATEGORIES:Pilates
END:VEVENT
BEGIN:VEVENT
DTSTART;TZID=UTC:20310411T133000
DTEND;TZID=UTC:20310411T143000
DTSTAMP:20260423T070825
CREATED:20260211T232117Z
LAST-MODIFIED:20260211T232122Z
UID:10012292-1933680600-1933684200@gvac.com
SUMMARY:Pilates Group Reformer\, Sarah H. *PAID SESSIONS*
DESCRIPTION:$30 per session\, limited to 3 people.  Call to reserve a spot (805) 968-1023.
URL:https://gvac.com/event/pilates-group-reformer-sarah-h-paid-sessions-5-2-3/2031-04-11/
LOCATION:Goleta Valley Athletic Club\, 170 Los Carneros Way\, Goleta\, CA\, 93117\, United States
CATEGORIES:Pilates
END:VEVENT
BEGIN:VEVENT
DTSTART;TZID=UTC:20310415T173000
DTEND;TZID=UTC:20310415T183000
DTSTAMP:20260423T070825
CREATED:20250929T183535Z
LAST-MODIFIED:20250929T183538Z
UID:10012307-1934040600-1934044200@gvac.com
SUMMARY:Pilates Group Reformer\, Sarah H. *PAID SESSIONS*
DESCRIPTION:$30 per session\, limited to 3 people.  Call to reserve a spot (805) 968-1023.
URL:https://gvac.com/event/pilates-group-reformer-sarah-h-paid-sessions-2-2/2031-04-15/
LOCATION:Goleta Valley Athletic Club\, 170 Los Carneros Way\, Goleta\, CA\, 93117\, United States
CATEGORIES:Pilates
END:VEVENT
BEGIN:VEVENT
DTSTART;TZID=UTC:20310417T173000
DTEND;TZID=UTC:20310417T183000
DTSTAMP:20260423T070825
CREATED:20251016T055137Z
LAST-MODIFIED:20251016T184929Z
UID:10012314-1934213400-1934217000@gvac.com
SUMMARY:Pilates Group Reformer\, Sarah H. *PAID SESSIONS*
DESCRIPTION:$30 per session\, limited to 3 people.  Call to reserve a spot (805) 968-1023.
URL:https://gvac.com/event/pilates-group-reformer-sarah-h-paid-sessions-3-2-2/2031-04-17/
LOCATION:Goleta Valley Athletic Club\, 170 Los Carneros Way\, Goleta\, CA\, 93117\, United States
CATEGORIES:Pilates
END:VEVENT
BEGIN:VEVENT
DTSTART;TZID=UTC:20310418T133000
DTEND;TZID=UTC:20310418T143000
DTSTAMP:20260423T070825
CREATED:20260211T232117Z
LAST-MODIFIED:20260211T232122Z
UID:10012317-1934285400-1934289000@gvac.com
SUMMARY:Pilates Group Reformer\, Sarah H. *PAID SESSIONS*
DESCRIPTION:$30 per session\, limited to 3 people.  Call to reserve a spot (805) 968-1023.
URL:https://gvac.com/event/pilates-group-reformer-sarah-h-paid-sessions-5-2-3/2031-04-18/
LOCATION:Goleta Valley Athletic Club\, 170 Los Carneros Way\, Goleta\, CA\, 93117\, United States
CATEGORIES:Pilates
END:VEVENT
END:VCALENDAR