BEGIN:VCALENDAR
VERSION:2.0
PRODID:-//Goleta Valley Athletic Club | Best Gym in Santa Barbara - ECPv6.15.20//NONSGML v1.0//EN
CALSCALE:GREGORIAN
METHOD:PUBLISH
X-WR-CALNAME:Goleta Valley Athletic Club | Best Gym in Santa Barbara
X-ORIGINAL-URL:https://gvac.com
X-WR-CALDESC:Events for Goleta Valley Athletic Club | Best Gym in Santa Barbara
REFRESH-INTERVAL;VALUE=DURATION:PT1H
X-Robots-Tag:noindex
X-PUBLISHED-TTL:PT1H
BEGIN:VTIMEZONE
TZID:America/Los_Angeles
BEGIN:DAYLIGHT
TZOFFSETFROM:-0800
TZOFFSETTO:-0700
TZNAME:PDT
DTSTART:20270314T100000
END:DAYLIGHT
BEGIN:STANDARD
TZOFFSETFROM:-0700
TZOFFSETTO:-0800
TZNAME:PST
DTSTART:20271107T090000
END:STANDARD
BEGIN:DAYLIGHT
TZOFFSETFROM:-0800
TZOFFSETTO:-0700
TZNAME:PDT
DTSTART:20280312T100000
END:DAYLIGHT
BEGIN:STANDARD
TZOFFSETFROM:-0700
TZOFFSETTO:-0800
TZNAME:PST
DTSTART:20281105T090000
END:STANDARD
BEGIN:DAYLIGHT
TZOFFSETFROM:-0800
TZOFFSETTO:-0700
TZNAME:PDT
DTSTART:20290311T100000
END:DAYLIGHT
BEGIN:STANDARD
TZOFFSETFROM:-0700
TZOFFSETTO:-0800
TZNAME:PST
DTSTART:20291104T090000
END:STANDARD
END:VTIMEZONE
BEGIN:VEVENT
DTSTART;TZID=America/Los_Angeles:20281130T173000
DTEND;TZID=America/Los_Angeles:20281130T183000
DTSTAMP:20260421T095606
CREATED:20251222T222624Z
LAST-MODIFIED:20251231T234714Z
UID:10011508-1859218200-1859221800@gvac.com
SUMMARY:Vinyasa Yoga\, Sarah E.
DESCRIPTION:
URL:https://gvac.com/event/vinyasa-yoga-morgan-3-2-2/2028-11-30/
LOCATION:Goleta Valley Athletic Club\, 170 Los Carneros Way\, Goleta\, CA\, 93117\, United States
CATEGORIES:Yoga
END:VEVENT
BEGIN:VEVENT
DTSTART;TZID=America/Los_Angeles:20281202T091500
DTEND;TZID=America/Los_Angeles:20281202T101000
DTSTAMP:20260421T095606
CREATED:20250929T183721Z
LAST-MODIFIED:20250929T183724Z
UID:10009145-1859361300-1859364600@gvac.com
SUMMARY:Vinyasa Yoga\, Ian
DESCRIPTION:
URL:https://gvac.com/event/vinyasa-yoga-morgan-2-2-2/2028-12-02/
LOCATION:Goleta Valley Athletic Club\, 170 Los Carneros Way\, Goleta\, CA\, 93117\, United States
CATEGORIES:Yoga
END:VEVENT
BEGIN:VEVENT
DTSTART;TZID=America/Los_Angeles:20281204T173000
DTEND;TZID=America/Los_Angeles:20281204T182500
DTSTAMP:20260421T095606
CREATED:20251118T234330Z
LAST-MODIFIED:20251118T234332Z
UID:10002937-1859563800-1859567100@gvac.com
SUMMARY:Power Vinyasa Yoga\, Ian
DESCRIPTION:
URL:https://gvac.com/event/power-vinyasa-yoga-sepideh-2-2/2028-12-04/
LOCATION:Goleta Valley Athletic Club\, 170 Los Carneros Way\, Goleta\, CA\, 93117\, United States
CATEGORIES:Yoga
END:VEVENT
BEGIN:VEVENT
DTSTART;TZID=America/Los_Angeles:20281205T173000
DTEND;TZID=America/Los_Angeles:20281205T182500
DTSTAMP:20260421T095606
CREATED:20250401T230915Z
LAST-MODIFIED:20250401T230915Z
UID:10005548-1859650200-1859653500@gvac.com
SUMMARY:Power Flow Yoga\, Sarah M.
DESCRIPTION:
URL:https://gvac.com/event/power-flow-yoga-sarah-m/2028-12-05/
LOCATION:Goleta Valley Athletic Club\, 170 Los Carneros Way\, Goleta\, CA\, 93117\, United States
CATEGORIES:Yoga
END:VEVENT
BEGIN:VEVENT
DTSTART;TZID=America/Los_Angeles:20281206T173000
DTEND;TZID=America/Los_Angeles:20281206T182500
DTSTAMP:20260421T095606
CREATED:20251118T234232Z
LAST-MODIFIED:20251118T234235Z
UID:10005809-1859736600-1859739900@gvac.com
SUMMARY:Yoga Sculpt\, Krista
DESCRIPTION:
URL:https://gvac.com/event/vinyasa-flow-yoga-nadia-2/2028-12-06/
LOCATION:Goleta Valley Athletic Club\, 170 Los Carneros Way\, Goleta\, CA\, 93117\, United States
CATEGORIES:Yoga
END:VEVENT
BEGIN:VEVENT
DTSTART;TZID=America/Los_Angeles:20281207T173000
DTEND;TZID=America/Los_Angeles:20281207T183000
DTSTAMP:20260421T095606
CREATED:20251222T222624Z
LAST-MODIFIED:20251231T234714Z
UID:10011509-1859823000-1859826600@gvac.com
SUMMARY:Vinyasa Yoga\, Sarah E.
DESCRIPTION:
URL:https://gvac.com/event/vinyasa-yoga-morgan-3-2-2/2028-12-07/
LOCATION:Goleta Valley Athletic Club\, 170 Los Carneros Way\, Goleta\, CA\, 93117\, United States
CATEGORIES:Yoga
END:VEVENT
BEGIN:VEVENT
DTSTART;TZID=America/Los_Angeles:20281209T091500
DTEND;TZID=America/Los_Angeles:20281209T101000
DTSTAMP:20260421T095606
CREATED:20250929T183721Z
LAST-MODIFIED:20250929T183724Z
UID:10009146-1859966100-1859969400@gvac.com
SUMMARY:Vinyasa Yoga\, Ian
DESCRIPTION:
URL:https://gvac.com/event/vinyasa-yoga-morgan-2-2-2/2028-12-09/
LOCATION:Goleta Valley Athletic Club\, 170 Los Carneros Way\, Goleta\, CA\, 93117\, United States
CATEGORIES:Yoga
END:VEVENT
BEGIN:VEVENT
DTSTART;TZID=America/Los_Angeles:20281211T173000
DTEND;TZID=America/Los_Angeles:20281211T182500
DTSTAMP:20260421T095606
CREATED:20251118T234330Z
LAST-MODIFIED:20251118T234332Z
UID:10002938-1860168600-1860171900@gvac.com
SUMMARY:Power Vinyasa Yoga\, Ian
DESCRIPTION:
URL:https://gvac.com/event/power-vinyasa-yoga-sepideh-2-2/2028-12-11/
LOCATION:Goleta Valley Athletic Club\, 170 Los Carneros Way\, Goleta\, CA\, 93117\, United States
CATEGORIES:Yoga
END:VEVENT
BEGIN:VEVENT
DTSTART;TZID=America/Los_Angeles:20281212T173000
DTEND;TZID=America/Los_Angeles:20281212T182500
DTSTAMP:20260421T095606
CREATED:20250401T230915Z
LAST-MODIFIED:20250401T230915Z
UID:10005549-1860255000-1860258300@gvac.com
SUMMARY:Power Flow Yoga\, Sarah M.
DESCRIPTION:
URL:https://gvac.com/event/power-flow-yoga-sarah-m/2028-12-12/
LOCATION:Goleta Valley Athletic Club\, 170 Los Carneros Way\, Goleta\, CA\, 93117\, United States
CATEGORIES:Yoga
END:VEVENT
BEGIN:VEVENT
DTSTART;TZID=America/Los_Angeles:20281213T173000
DTEND;TZID=America/Los_Angeles:20281213T182500
DTSTAMP:20260421T095606
CREATED:20251118T234232Z
LAST-MODIFIED:20251118T234235Z
UID:10005810-1860341400-1860344700@gvac.com
SUMMARY:Yoga Sculpt\, Krista
DESCRIPTION:
URL:https://gvac.com/event/vinyasa-flow-yoga-nadia-2/2028-12-13/
LOCATION:Goleta Valley Athletic Club\, 170 Los Carneros Way\, Goleta\, CA\, 93117\, United States
CATEGORIES:Yoga
END:VEVENT
BEGIN:VEVENT
DTSTART;TZID=America/Los_Angeles:20281214T173000
DTEND;TZID=America/Los_Angeles:20281214T183000
DTSTAMP:20260421T095606
CREATED:20251222T222624Z
LAST-MODIFIED:20251231T234714Z
UID:10011510-1860427800-1860431400@gvac.com
SUMMARY:Vinyasa Yoga\, Sarah E.
DESCRIPTION:
URL:https://gvac.com/event/vinyasa-yoga-morgan-3-2-2/2028-12-14/
LOCATION:Goleta Valley Athletic Club\, 170 Los Carneros Way\, Goleta\, CA\, 93117\, United States
CATEGORIES:Yoga
END:VEVENT
BEGIN:VEVENT
DTSTART;TZID=America/Los_Angeles:20281216T091500
DTEND;TZID=America/Los_Angeles:20281216T101000
DTSTAMP:20260421T095606
CREATED:20250929T183721Z
LAST-MODIFIED:20250929T183724Z
UID:10009147-1860570900-1860574200@gvac.com
SUMMARY:Vinyasa Yoga\, Ian
DESCRIPTION:
URL:https://gvac.com/event/vinyasa-yoga-morgan-2-2-2/2028-12-16/
LOCATION:Goleta Valley Athletic Club\, 170 Los Carneros Way\, Goleta\, CA\, 93117\, United States
CATEGORIES:Yoga
END:VEVENT
BEGIN:VEVENT
DTSTART;TZID=America/Los_Angeles:20281218T173000
DTEND;TZID=America/Los_Angeles:20281218T182500
DTSTAMP:20260421T095606
CREATED:20251118T234330Z
LAST-MODIFIED:20251118T234332Z
UID:10002939-1860773400-1860776700@gvac.com
SUMMARY:Power Vinyasa Yoga\, Ian
DESCRIPTION:
URL:https://gvac.com/event/power-vinyasa-yoga-sepideh-2-2/2028-12-18/
LOCATION:Goleta Valley Athletic Club\, 170 Los Carneros Way\, Goleta\, CA\, 93117\, United States
CATEGORIES:Yoga
END:VEVENT
BEGIN:VEVENT
DTSTART;TZID=America/Los_Angeles:20281219T173000
DTEND;TZID=America/Los_Angeles:20281219T182500
DTSTAMP:20260421T095606
CREATED:20250401T230915Z
LAST-MODIFIED:20250401T230915Z
UID:10005550-1860859800-1860863100@gvac.com
SUMMARY:Power Flow Yoga\, Sarah M.
DESCRIPTION:
URL:https://gvac.com/event/power-flow-yoga-sarah-m/2028-12-19/
LOCATION:Goleta Valley Athletic Club\, 170 Los Carneros Way\, Goleta\, CA\, 93117\, United States
CATEGORIES:Yoga
END:VEVENT
BEGIN:VEVENT
DTSTART;TZID=America/Los_Angeles:20281220T173000
DTEND;TZID=America/Los_Angeles:20281220T182500
DTSTAMP:20260421T095606
CREATED:20251118T234232Z
LAST-MODIFIED:20251118T234235Z
UID:10005811-1860946200-1860949500@gvac.com
SUMMARY:Yoga Sculpt\, Krista
DESCRIPTION:
URL:https://gvac.com/event/vinyasa-flow-yoga-nadia-2/2028-12-20/
LOCATION:Goleta Valley Athletic Club\, 170 Los Carneros Way\, Goleta\, CA\, 93117\, United States
CATEGORIES:Yoga
END:VEVENT
BEGIN:VEVENT
DTSTART;TZID=America/Los_Angeles:20281221T173000
DTEND;TZID=America/Los_Angeles:20281221T183000
DTSTAMP:20260421T095606
CREATED:20251222T222624Z
LAST-MODIFIED:20251231T234714Z
UID:10011511-1861032600-1861036200@gvac.com
SUMMARY:Vinyasa Yoga\, Sarah E.
DESCRIPTION:
URL:https://gvac.com/event/vinyasa-yoga-morgan-3-2-2/2028-12-21/
LOCATION:Goleta Valley Athletic Club\, 170 Los Carneros Way\, Goleta\, CA\, 93117\, United States
CATEGORIES:Yoga
END:VEVENT
BEGIN:VEVENT
DTSTART;TZID=America/Los_Angeles:20281223T091500
DTEND;TZID=America/Los_Angeles:20281223T101000
DTSTAMP:20260421T095606
CREATED:20250929T183721Z
LAST-MODIFIED:20250929T183724Z
UID:10009148-1861175700-1861179000@gvac.com
SUMMARY:Vinyasa Yoga\, Ian
DESCRIPTION:
URL:https://gvac.com/event/vinyasa-yoga-morgan-2-2-2/2028-12-23/
LOCATION:Goleta Valley Athletic Club\, 170 Los Carneros Way\, Goleta\, CA\, 93117\, United States
CATEGORIES:Yoga
END:VEVENT
BEGIN:VEVENT
DTSTART;TZID=America/Los_Angeles:20281225T173000
DTEND;TZID=America/Los_Angeles:20281225T182500
DTSTAMP:20260421T095606
CREATED:20251118T234330Z
LAST-MODIFIED:20251118T234332Z
UID:10002940-1861378200-1861381500@gvac.com
SUMMARY:Power Vinyasa Yoga\, Ian
DESCRIPTION:
URL:https://gvac.com/event/power-vinyasa-yoga-sepideh-2-2/2028-12-25/
LOCATION:Goleta Valley Athletic Club\, 170 Los Carneros Way\, Goleta\, CA\, 93117\, United States
CATEGORIES:Yoga
END:VEVENT
BEGIN:VEVENT
DTSTART;TZID=America/Los_Angeles:20281226T173000
DTEND;TZID=America/Los_Angeles:20281226T182500
DTSTAMP:20260421T095606
CREATED:20250401T230915Z
LAST-MODIFIED:20250401T230915Z
UID:10005551-1861464600-1861467900@gvac.com
SUMMARY:Power Flow Yoga\, Sarah M.
DESCRIPTION:
URL:https://gvac.com/event/power-flow-yoga-sarah-m/2028-12-26/
LOCATION:Goleta Valley Athletic Club\, 170 Los Carneros Way\, Goleta\, CA\, 93117\, United States
CATEGORIES:Yoga
END:VEVENT
BEGIN:VEVENT
DTSTART;TZID=America/Los_Angeles:20281227T173000
DTEND;TZID=America/Los_Angeles:20281227T182500
DTSTAMP:20260421T095606
CREATED:20251118T234232Z
LAST-MODIFIED:20251118T234235Z
UID:10005812-1861551000-1861554300@gvac.com
SUMMARY:Yoga Sculpt\, Krista
DESCRIPTION:
URL:https://gvac.com/event/vinyasa-flow-yoga-nadia-2/2028-12-27/
LOCATION:Goleta Valley Athletic Club\, 170 Los Carneros Way\, Goleta\, CA\, 93117\, United States
CATEGORIES:Yoga
END:VEVENT
BEGIN:VEVENT
DTSTART;TZID=America/Los_Angeles:20281228T173000
DTEND;TZID=America/Los_Angeles:20281228T183000
DTSTAMP:20260421T095606
CREATED:20251222T222624Z
LAST-MODIFIED:20251231T234714Z
UID:10011512-1861637400-1861641000@gvac.com
SUMMARY:Vinyasa Yoga\, Sarah E.
DESCRIPTION:
URL:https://gvac.com/event/vinyasa-yoga-morgan-3-2-2/2028-12-28/
LOCATION:Goleta Valley Athletic Club\, 170 Los Carneros Way\, Goleta\, CA\, 93117\, United States
CATEGORIES:Yoga
END:VEVENT
BEGIN:VEVENT
DTSTART;TZID=America/Los_Angeles:20281230T091500
DTEND;TZID=America/Los_Angeles:20281230T101000
DTSTAMP:20260421T095606
CREATED:20250929T183721Z
LAST-MODIFIED:20250929T183724Z
UID:10009149-1861780500-1861783800@gvac.com
SUMMARY:Vinyasa Yoga\, Ian
DESCRIPTION:
URL:https://gvac.com/event/vinyasa-yoga-morgan-2-2-2/2028-12-30/
LOCATION:Goleta Valley Athletic Club\, 170 Los Carneros Way\, Goleta\, CA\, 93117\, United States
CATEGORIES:Yoga
END:VEVENT
END:VCALENDAR