BEGIN:VCALENDAR
VERSION:2.0
PRODID:-//Goleta Valley Athletic Club | Best Gym in Santa Barbara - ECPv6.15.20//NONSGML v1.0//EN
CALSCALE:GREGORIAN
METHOD:PUBLISH
X-WR-CALNAME:Goleta Valley Athletic Club | Best Gym in Santa Barbara
X-ORIGINAL-URL:https://gvac.com
X-WR-CALDESC:Events for Goleta Valley Athletic Club | Best Gym in Santa Barbara
REFRESH-INTERVAL;VALUE=DURATION:PT1H
X-Robots-Tag:noindex
X-PUBLISHED-TTL:PT1H
BEGIN:VTIMEZONE
TZID:America/Los_Angeles
BEGIN:DAYLIGHT
TZOFFSETFROM:-0800
TZOFFSETTO:-0700
TZNAME:PDT
DTSTART:20280312T100000
END:DAYLIGHT
BEGIN:STANDARD
TZOFFSETFROM:-0700
TZOFFSETTO:-0800
TZNAME:PST
DTSTART:20281105T090000
END:STANDARD
BEGIN:DAYLIGHT
TZOFFSETFROM:-0800
TZOFFSETTO:-0700
TZNAME:PDT
DTSTART:20290311T100000
END:DAYLIGHT
BEGIN:STANDARD
TZOFFSETFROM:-0700
TZOFFSETTO:-0800
TZNAME:PST
DTSTART:20291104T090000
END:STANDARD
BEGIN:DAYLIGHT
TZOFFSETFROM:-0800
TZOFFSETTO:-0700
TZNAME:PDT
DTSTART:20300310T100000
END:DAYLIGHT
BEGIN:STANDARD
TZOFFSETFROM:-0700
TZOFFSETTO:-0800
TZNAME:PST
DTSTART:20301103T090000
END:STANDARD
END:VTIMEZONE
BEGIN:VEVENT
DTSTART;TZID=America/Los_Angeles:20290101T173000
DTEND;TZID=America/Los_Angeles:20290101T182500
DTSTAMP:20260423T101652
CREATED:20251118T234330Z
LAST-MODIFIED:20251118T234332Z
UID:10002941-1861983000-1861986300@gvac.com
SUMMARY:Power Vinyasa Yoga\, Ian
DESCRIPTION:
URL:https://gvac.com/event/power-vinyasa-yoga-sepideh-2-2/2029-01-01/
LOCATION:Goleta Valley Athletic Club\, 170 Los Carneros Way\, Goleta\, CA\, 93117\, United States
CATEGORIES:Yoga
END:VEVENT
BEGIN:VEVENT
DTSTART;TZID=America/Los_Angeles:20290102T173000
DTEND;TZID=America/Los_Angeles:20290102T182500
DTSTAMP:20260423T101652
CREATED:20250401T230915Z
LAST-MODIFIED:20250401T230915Z
UID:10005552-1862069400-1862072700@gvac.com
SUMMARY:Power Flow Yoga\, Sarah M.
DESCRIPTION:
URL:https://gvac.com/event/power-flow-yoga-sarah-m/2029-01-02/
LOCATION:Goleta Valley Athletic Club\, 170 Los Carneros Way\, Goleta\, CA\, 93117\, United States
CATEGORIES:Yoga
END:VEVENT
BEGIN:VEVENT
DTSTART;TZID=America/Los_Angeles:20290103T173000
DTEND;TZID=America/Los_Angeles:20290103T182500
DTSTAMP:20260423T101652
CREATED:20251118T234232Z
LAST-MODIFIED:20251118T234235Z
UID:10005813-1862155800-1862159100@gvac.com
SUMMARY:Yoga Sculpt\, Krista
DESCRIPTION:
URL:https://gvac.com/event/vinyasa-flow-yoga-nadia-2/2029-01-03/
LOCATION:Goleta Valley Athletic Club\, 170 Los Carneros Way\, Goleta\, CA\, 93117\, United States
CATEGORIES:Yoga
END:VEVENT
BEGIN:VEVENT
DTSTART;TZID=America/Los_Angeles:20290104T173000
DTEND;TZID=America/Los_Angeles:20290104T183000
DTSTAMP:20260423T101652
CREATED:20251222T222624Z
LAST-MODIFIED:20251231T234714Z
UID:10011513-1862242200-1862245800@gvac.com
SUMMARY:Vinyasa Yoga\, Sarah E.
DESCRIPTION:
URL:https://gvac.com/event/vinyasa-yoga-morgan-3-2-2/2029-01-04/
LOCATION:Goleta Valley Athletic Club\, 170 Los Carneros Way\, Goleta\, CA\, 93117\, United States
CATEGORIES:Yoga
END:VEVENT
BEGIN:VEVENT
DTSTART;TZID=America/Los_Angeles:20290106T091500
DTEND;TZID=America/Los_Angeles:20290106T101000
DTSTAMP:20260423T101652
CREATED:20250929T183721Z
LAST-MODIFIED:20250929T183724Z
UID:10009150-1862385300-1862388600@gvac.com
SUMMARY:Vinyasa Yoga\, Ian
DESCRIPTION:
URL:https://gvac.com/event/vinyasa-yoga-morgan-2-2-2/2029-01-06/
LOCATION:Goleta Valley Athletic Club\, 170 Los Carneros Way\, Goleta\, CA\, 93117\, United States
CATEGORIES:Yoga
END:VEVENT
BEGIN:VEVENT
DTSTART;TZID=America/Los_Angeles:20290108T173000
DTEND;TZID=America/Los_Angeles:20290108T182500
DTSTAMP:20260423T101652
CREATED:20251118T234330Z
LAST-MODIFIED:20251118T234332Z
UID:10002942-1862587800-1862591100@gvac.com
SUMMARY:Power Vinyasa Yoga\, Ian
DESCRIPTION:
URL:https://gvac.com/event/power-vinyasa-yoga-sepideh-2-2/2029-01-08/
LOCATION:Goleta Valley Athletic Club\, 170 Los Carneros Way\, Goleta\, CA\, 93117\, United States
CATEGORIES:Yoga
END:VEVENT
BEGIN:VEVENT
DTSTART;TZID=America/Los_Angeles:20290109T173000
DTEND;TZID=America/Los_Angeles:20290109T182500
DTSTAMP:20260423T101652
CREATED:20250401T230915Z
LAST-MODIFIED:20250401T230915Z
UID:10005553-1862674200-1862677500@gvac.com
SUMMARY:Power Flow Yoga\, Sarah M.
DESCRIPTION:
URL:https://gvac.com/event/power-flow-yoga-sarah-m/2029-01-09/
LOCATION:Goleta Valley Athletic Club\, 170 Los Carneros Way\, Goleta\, CA\, 93117\, United States
CATEGORIES:Yoga
END:VEVENT
BEGIN:VEVENT
DTSTART;TZID=America/Los_Angeles:20290110T173000
DTEND;TZID=America/Los_Angeles:20290110T182500
DTSTAMP:20260423T101652
CREATED:20251118T234232Z
LAST-MODIFIED:20251118T234235Z
UID:10005814-1862760600-1862763900@gvac.com
SUMMARY:Yoga Sculpt\, Krista
DESCRIPTION:
URL:https://gvac.com/event/vinyasa-flow-yoga-nadia-2/2029-01-10/
LOCATION:Goleta Valley Athletic Club\, 170 Los Carneros Way\, Goleta\, CA\, 93117\, United States
CATEGORIES:Yoga
END:VEVENT
BEGIN:VEVENT
DTSTART;TZID=America/Los_Angeles:20290111T173000
DTEND;TZID=America/Los_Angeles:20290111T183000
DTSTAMP:20260423T101652
CREATED:20251222T222624Z
LAST-MODIFIED:20251231T234714Z
UID:10011514-1862847000-1862850600@gvac.com
SUMMARY:Vinyasa Yoga\, Sarah E.
DESCRIPTION:
URL:https://gvac.com/event/vinyasa-yoga-morgan-3-2-2/2029-01-11/
LOCATION:Goleta Valley Athletic Club\, 170 Los Carneros Way\, Goleta\, CA\, 93117\, United States
CATEGORIES:Yoga
END:VEVENT
BEGIN:VEVENT
DTSTART;TZID=America/Los_Angeles:20290113T091500
DTEND;TZID=America/Los_Angeles:20290113T101000
DTSTAMP:20260423T101652
CREATED:20250929T183721Z
LAST-MODIFIED:20250929T183724Z
UID:10009151-1862990100-1862993400@gvac.com
SUMMARY:Vinyasa Yoga\, Ian
DESCRIPTION:
URL:https://gvac.com/event/vinyasa-yoga-morgan-2-2-2/2029-01-13/
LOCATION:Goleta Valley Athletic Club\, 170 Los Carneros Way\, Goleta\, CA\, 93117\, United States
CATEGORIES:Yoga
END:VEVENT
BEGIN:VEVENT
DTSTART;TZID=America/Los_Angeles:20290115T173000
DTEND;TZID=America/Los_Angeles:20290115T182500
DTSTAMP:20260423T101652
CREATED:20251118T234330Z
LAST-MODIFIED:20251118T234332Z
UID:10002943-1863192600-1863195900@gvac.com
SUMMARY:Power Vinyasa Yoga\, Ian
DESCRIPTION:
URL:https://gvac.com/event/power-vinyasa-yoga-sepideh-2-2/2029-01-15/
LOCATION:Goleta Valley Athletic Club\, 170 Los Carneros Way\, Goleta\, CA\, 93117\, United States
CATEGORIES:Yoga
END:VEVENT
BEGIN:VEVENT
DTSTART;TZID=America/Los_Angeles:20290116T173000
DTEND;TZID=America/Los_Angeles:20290116T182500
DTSTAMP:20260423T101652
CREATED:20250401T230915Z
LAST-MODIFIED:20250401T230915Z
UID:10005554-1863279000-1863282300@gvac.com
SUMMARY:Power Flow Yoga\, Sarah M.
DESCRIPTION:
URL:https://gvac.com/event/power-flow-yoga-sarah-m/2029-01-16/
LOCATION:Goleta Valley Athletic Club\, 170 Los Carneros Way\, Goleta\, CA\, 93117\, United States
CATEGORIES:Yoga
END:VEVENT
BEGIN:VEVENT
DTSTART;TZID=America/Los_Angeles:20290117T173000
DTEND;TZID=America/Los_Angeles:20290117T182500
DTSTAMP:20260423T101652
CREATED:20251118T234232Z
LAST-MODIFIED:20251118T234235Z
UID:10005815-1863365400-1863368700@gvac.com
SUMMARY:Yoga Sculpt\, Krista
DESCRIPTION:
URL:https://gvac.com/event/vinyasa-flow-yoga-nadia-2/2029-01-17/
LOCATION:Goleta Valley Athletic Club\, 170 Los Carneros Way\, Goleta\, CA\, 93117\, United States
CATEGORIES:Yoga
END:VEVENT
BEGIN:VEVENT
DTSTART;TZID=America/Los_Angeles:20290118T173000
DTEND;TZID=America/Los_Angeles:20290118T183000
DTSTAMP:20260423T101652
CREATED:20251222T222624Z
LAST-MODIFIED:20251231T234714Z
UID:10011515-1863451800-1863455400@gvac.com
SUMMARY:Vinyasa Yoga\, Sarah E.
DESCRIPTION:
URL:https://gvac.com/event/vinyasa-yoga-morgan-3-2-2/2029-01-18/
LOCATION:Goleta Valley Athletic Club\, 170 Los Carneros Way\, Goleta\, CA\, 93117\, United States
CATEGORIES:Yoga
END:VEVENT
BEGIN:VEVENT
DTSTART;TZID=America/Los_Angeles:20290120T091500
DTEND;TZID=America/Los_Angeles:20290120T101000
DTSTAMP:20260423T101652
CREATED:20250929T183721Z
LAST-MODIFIED:20250929T183724Z
UID:10009152-1863594900-1863598200@gvac.com
SUMMARY:Vinyasa Yoga\, Ian
DESCRIPTION:
URL:https://gvac.com/event/vinyasa-yoga-morgan-2-2-2/2029-01-20/
LOCATION:Goleta Valley Athletic Club\, 170 Los Carneros Way\, Goleta\, CA\, 93117\, United States
CATEGORIES:Yoga
END:VEVENT
BEGIN:VEVENT
DTSTART;TZID=America/Los_Angeles:20290122T173000
DTEND;TZID=America/Los_Angeles:20290122T182500
DTSTAMP:20260423T101652
CREATED:20251118T234330Z
LAST-MODIFIED:20251118T234332Z
UID:10002944-1863797400-1863800700@gvac.com
SUMMARY:Power Vinyasa Yoga\, Ian
DESCRIPTION:
URL:https://gvac.com/event/power-vinyasa-yoga-sepideh-2-2/2029-01-22/
LOCATION:Goleta Valley Athletic Club\, 170 Los Carneros Way\, Goleta\, CA\, 93117\, United States
CATEGORIES:Yoga
END:VEVENT
BEGIN:VEVENT
DTSTART;TZID=America/Los_Angeles:20290123T173000
DTEND;TZID=America/Los_Angeles:20290123T182500
DTSTAMP:20260423T101652
CREATED:20250401T230915Z
LAST-MODIFIED:20250401T230915Z
UID:10005555-1863883800-1863887100@gvac.com
SUMMARY:Power Flow Yoga\, Sarah M.
DESCRIPTION:
URL:https://gvac.com/event/power-flow-yoga-sarah-m/2029-01-23/
LOCATION:Goleta Valley Athletic Club\, 170 Los Carneros Way\, Goleta\, CA\, 93117\, United States
CATEGORIES:Yoga
END:VEVENT
BEGIN:VEVENT
DTSTART;TZID=America/Los_Angeles:20290124T173000
DTEND;TZID=America/Los_Angeles:20290124T182500
DTSTAMP:20260423T101652
CREATED:20251118T234232Z
LAST-MODIFIED:20251118T234235Z
UID:10005816-1863970200-1863973500@gvac.com
SUMMARY:Yoga Sculpt\, Krista
DESCRIPTION:
URL:https://gvac.com/event/vinyasa-flow-yoga-nadia-2/2029-01-24/
LOCATION:Goleta Valley Athletic Club\, 170 Los Carneros Way\, Goleta\, CA\, 93117\, United States
CATEGORIES:Yoga
END:VEVENT
BEGIN:VEVENT
DTSTART;TZID=America/Los_Angeles:20290125T173000
DTEND;TZID=America/Los_Angeles:20290125T183000
DTSTAMP:20260423T101652
CREATED:20251222T222624Z
LAST-MODIFIED:20251231T234714Z
UID:10011516-1864056600-1864060200@gvac.com
SUMMARY:Vinyasa Yoga\, Sarah E.
DESCRIPTION:
URL:https://gvac.com/event/vinyasa-yoga-morgan-3-2-2/2029-01-25/
LOCATION:Goleta Valley Athletic Club\, 170 Los Carneros Way\, Goleta\, CA\, 93117\, United States
CATEGORIES:Yoga
END:VEVENT
BEGIN:VEVENT
DTSTART;TZID=America/Los_Angeles:20290127T091500
DTEND;TZID=America/Los_Angeles:20290127T101000
DTSTAMP:20260423T101652
CREATED:20250929T183721Z
LAST-MODIFIED:20250929T183724Z
UID:10009153-1864199700-1864203000@gvac.com
SUMMARY:Vinyasa Yoga\, Ian
DESCRIPTION:
URL:https://gvac.com/event/vinyasa-yoga-morgan-2-2-2/2029-01-27/
LOCATION:Goleta Valley Athletic Club\, 170 Los Carneros Way\, Goleta\, CA\, 93117\, United States
CATEGORIES:Yoga
END:VEVENT
BEGIN:VEVENT
DTSTART;TZID=America/Los_Angeles:20290129T173000
DTEND;TZID=America/Los_Angeles:20290129T182500
DTSTAMP:20260423T101652
CREATED:20251118T234330Z
LAST-MODIFIED:20251118T234332Z
UID:10002945-1864402200-1864405500@gvac.com
SUMMARY:Power Vinyasa Yoga\, Ian
DESCRIPTION:
URL:https://gvac.com/event/power-vinyasa-yoga-sepideh-2-2/2029-01-29/
LOCATION:Goleta Valley Athletic Club\, 170 Los Carneros Way\, Goleta\, CA\, 93117\, United States
CATEGORIES:Yoga
END:VEVENT
BEGIN:VEVENT
DTSTART;TZID=America/Los_Angeles:20290130T173000
DTEND;TZID=America/Los_Angeles:20290130T182500
DTSTAMP:20260423T101652
CREATED:20250401T230915Z
LAST-MODIFIED:20250401T230915Z
UID:10005556-1864488600-1864491900@gvac.com
SUMMARY:Power Flow Yoga\, Sarah M.
DESCRIPTION:
URL:https://gvac.com/event/power-flow-yoga-sarah-m/2029-01-30/
LOCATION:Goleta Valley Athletic Club\, 170 Los Carneros Way\, Goleta\, CA\, 93117\, United States
CATEGORIES:Yoga
END:VEVENT
END:VCALENDAR