BEGIN:VCALENDAR
VERSION:2.0
PRODID:-//Goleta Valley Athletic Club | Best Gym in Santa Barbara - ECPv6.15.20//NONSGML v1.0//EN
CALSCALE:GREGORIAN
METHOD:PUBLISH
X-WR-CALNAME:Goleta Valley Athletic Club | Best Gym in Santa Barbara
X-ORIGINAL-URL:https://gvac.com
X-WR-CALDESC:Events for Goleta Valley Athletic Club | Best Gym in Santa Barbara
REFRESH-INTERVAL;VALUE=DURATION:PT1H
X-Robots-Tag:noindex
X-PUBLISHED-TTL:PT1H
BEGIN:VTIMEZONE
TZID:America/Los_Angeles
BEGIN:DAYLIGHT
TZOFFSETFROM:-0800
TZOFFSETTO:-0700
TZNAME:PDT
DTSTART:20280312T100000
END:DAYLIGHT
BEGIN:STANDARD
TZOFFSETFROM:-0700
TZOFFSETTO:-0800
TZNAME:PST
DTSTART:20281105T090000
END:STANDARD
BEGIN:DAYLIGHT
TZOFFSETFROM:-0800
TZOFFSETTO:-0700
TZNAME:PDT
DTSTART:20290311T100000
END:DAYLIGHT
BEGIN:STANDARD
TZOFFSETFROM:-0700
TZOFFSETTO:-0800
TZNAME:PST
DTSTART:20291104T090000
END:STANDARD
BEGIN:DAYLIGHT
TZOFFSETFROM:-0800
TZOFFSETTO:-0700
TZNAME:PDT
DTSTART:20300310T100000
END:DAYLIGHT
BEGIN:STANDARD
TZOFFSETFROM:-0700
TZOFFSETTO:-0800
TZNAME:PST
DTSTART:20301103T090000
END:STANDARD
END:VTIMEZONE
BEGIN:VEVENT
DTSTART;TZID=America/Los_Angeles:20290228T173000
DTEND;TZID=America/Los_Angeles:20290228T182500
DTSTAMP:20260423T131802
CREATED:20251118T234232Z
LAST-MODIFIED:20251118T234235Z
UID:10005821-1866994200-1866997500@gvac.com
SUMMARY:Yoga Sculpt\, Krista
DESCRIPTION:
URL:https://gvac.com/event/vinyasa-flow-yoga-nadia-2/2029-02-28/
LOCATION:Goleta Valley Athletic Club\, 170 Los Carneros Way\, Goleta\, CA\, 93117\, United States
CATEGORIES:Yoga
END:VEVENT
BEGIN:VEVENT
DTSTART;TZID=America/Los_Angeles:20290301T173000
DTEND;TZID=America/Los_Angeles:20290301T183000
DTSTAMP:20260423T131802
CREATED:20251222T222624Z
LAST-MODIFIED:20251231T234714Z
UID:10011521-1867080600-1867084200@gvac.com
SUMMARY:Vinyasa Yoga\, Sarah E.
DESCRIPTION:
URL:https://gvac.com/event/vinyasa-yoga-morgan-3-2-2/2029-03-01/
LOCATION:Goleta Valley Athletic Club\, 170 Los Carneros Way\, Goleta\, CA\, 93117\, United States
CATEGORIES:Yoga
END:VEVENT
BEGIN:VEVENT
DTSTART;TZID=America/Los_Angeles:20290303T091500
DTEND;TZID=America/Los_Angeles:20290303T101000
DTSTAMP:20260423T131802
CREATED:20250929T183721Z
LAST-MODIFIED:20250929T183724Z
UID:10009158-1867223700-1867227000@gvac.com
SUMMARY:Vinyasa Yoga\, Ian
DESCRIPTION:
URL:https://gvac.com/event/vinyasa-yoga-morgan-2-2-2/2029-03-03/
LOCATION:Goleta Valley Athletic Club\, 170 Los Carneros Way\, Goleta\, CA\, 93117\, United States
CATEGORIES:Yoga
END:VEVENT
BEGIN:VEVENT
DTSTART;TZID=America/Los_Angeles:20290305T173000
DTEND;TZID=America/Los_Angeles:20290305T182500
DTSTAMP:20260423T131802
CREATED:20251118T234330Z
LAST-MODIFIED:20251118T234332Z
UID:10002950-1867426200-1867429500@gvac.com
SUMMARY:Power Vinyasa Yoga\, Ian
DESCRIPTION:
URL:https://gvac.com/event/power-vinyasa-yoga-sepideh-2-2/2029-03-05/
LOCATION:Goleta Valley Athletic Club\, 170 Los Carneros Way\, Goleta\, CA\, 93117\, United States
CATEGORIES:Yoga
END:VEVENT
BEGIN:VEVENT
DTSTART;TZID=America/Los_Angeles:20290306T173000
DTEND;TZID=America/Los_Angeles:20290306T182500
DTSTAMP:20260423T131802
CREATED:20250401T230915Z
LAST-MODIFIED:20250401T230915Z
UID:10005561-1867512600-1867515900@gvac.com
SUMMARY:Power Flow Yoga\, Sarah M.
DESCRIPTION:
URL:https://gvac.com/event/power-flow-yoga-sarah-m/2029-03-06/
LOCATION:Goleta Valley Athletic Club\, 170 Los Carneros Way\, Goleta\, CA\, 93117\, United States
CATEGORIES:Yoga
END:VEVENT
BEGIN:VEVENT
DTSTART;TZID=America/Los_Angeles:20290307T173000
DTEND;TZID=America/Los_Angeles:20290307T182500
DTSTAMP:20260423T131802
CREATED:20251118T234232Z
LAST-MODIFIED:20251118T234235Z
UID:10005822-1867599000-1867602300@gvac.com
SUMMARY:Yoga Sculpt\, Krista
DESCRIPTION:
URL:https://gvac.com/event/vinyasa-flow-yoga-nadia-2/2029-03-07/
LOCATION:Goleta Valley Athletic Club\, 170 Los Carneros Way\, Goleta\, CA\, 93117\, United States
CATEGORIES:Yoga
END:VEVENT
BEGIN:VEVENT
DTSTART;TZID=America/Los_Angeles:20290308T173000
DTEND;TZID=America/Los_Angeles:20290308T183000
DTSTAMP:20260423T131802
CREATED:20251222T222624Z
LAST-MODIFIED:20251231T234714Z
UID:10011522-1867685400-1867689000@gvac.com
SUMMARY:Vinyasa Yoga\, Sarah E.
DESCRIPTION:
URL:https://gvac.com/event/vinyasa-yoga-morgan-3-2-2/2029-03-08/
LOCATION:Goleta Valley Athletic Club\, 170 Los Carneros Way\, Goleta\, CA\, 93117\, United States
CATEGORIES:Yoga
END:VEVENT
BEGIN:VEVENT
DTSTART;TZID=America/Los_Angeles:20290310T091500
DTEND;TZID=America/Los_Angeles:20290310T101000
DTSTAMP:20260423T131802
CREATED:20250929T183721Z
LAST-MODIFIED:20250929T183724Z
UID:10009159-1867828500-1867831800@gvac.com
SUMMARY:Vinyasa Yoga\, Ian
DESCRIPTION:
URL:https://gvac.com/event/vinyasa-yoga-morgan-2-2-2/2029-03-10/
LOCATION:Goleta Valley Athletic Club\, 170 Los Carneros Way\, Goleta\, CA\, 93117\, United States
CATEGORIES:Yoga
END:VEVENT
BEGIN:VEVENT
DTSTART;TZID=America/Los_Angeles:20290312T173000
DTEND;TZID=America/Los_Angeles:20290312T182500
DTSTAMP:20260423T131802
CREATED:20251118T234330Z
LAST-MODIFIED:20251118T234332Z
UID:10002951-1868031000-1868034300@gvac.com
SUMMARY:Power Vinyasa Yoga\, Ian
DESCRIPTION:
URL:https://gvac.com/event/power-vinyasa-yoga-sepideh-2-2/2029-03-12/
LOCATION:Goleta Valley Athletic Club\, 170 Los Carneros Way\, Goleta\, CA\, 93117\, United States
CATEGORIES:Yoga
END:VEVENT
BEGIN:VEVENT
DTSTART;TZID=America/Los_Angeles:20290313T173000
DTEND;TZID=America/Los_Angeles:20290313T182500
DTSTAMP:20260423T131802
CREATED:20250401T230915Z
LAST-MODIFIED:20250401T230915Z
UID:10005562-1868117400-1868120700@gvac.com
SUMMARY:Power Flow Yoga\, Sarah M.
DESCRIPTION:
URL:https://gvac.com/event/power-flow-yoga-sarah-m/2029-03-13/
LOCATION:Goleta Valley Athletic Club\, 170 Los Carneros Way\, Goleta\, CA\, 93117\, United States
CATEGORIES:Yoga
END:VEVENT
BEGIN:VEVENT
DTSTART;TZID=America/Los_Angeles:20290314T173000
DTEND;TZID=America/Los_Angeles:20290314T182500
DTSTAMP:20260423T131802
CREATED:20251118T234232Z
LAST-MODIFIED:20251118T234235Z
UID:10005823-1868203800-1868207100@gvac.com
SUMMARY:Yoga Sculpt\, Krista
DESCRIPTION:
URL:https://gvac.com/event/vinyasa-flow-yoga-nadia-2/2029-03-14/
LOCATION:Goleta Valley Athletic Club\, 170 Los Carneros Way\, Goleta\, CA\, 93117\, United States
CATEGORIES:Yoga
END:VEVENT
BEGIN:VEVENT
DTSTART;TZID=America/Los_Angeles:20290315T173000
DTEND;TZID=America/Los_Angeles:20290315T183000
DTSTAMP:20260423T131802
CREATED:20251222T222624Z
LAST-MODIFIED:20251231T234714Z
UID:10011523-1868290200-1868293800@gvac.com
SUMMARY:Vinyasa Yoga\, Sarah E.
DESCRIPTION:
URL:https://gvac.com/event/vinyasa-yoga-morgan-3-2-2/2029-03-15/
LOCATION:Goleta Valley Athletic Club\, 170 Los Carneros Way\, Goleta\, CA\, 93117\, United States
CATEGORIES:Yoga
END:VEVENT
BEGIN:VEVENT
DTSTART;TZID=America/Los_Angeles:20290317T091500
DTEND;TZID=America/Los_Angeles:20290317T101000
DTSTAMP:20260423T131802
CREATED:20250929T183721Z
LAST-MODIFIED:20250929T183724Z
UID:10009160-1868433300-1868436600@gvac.com
SUMMARY:Vinyasa Yoga\, Ian
DESCRIPTION:
URL:https://gvac.com/event/vinyasa-yoga-morgan-2-2-2/2029-03-17/
LOCATION:Goleta Valley Athletic Club\, 170 Los Carneros Way\, Goleta\, CA\, 93117\, United States
CATEGORIES:Yoga
END:VEVENT
BEGIN:VEVENT
DTSTART;TZID=America/Los_Angeles:20290319T173000
DTEND;TZID=America/Los_Angeles:20290319T182500
DTSTAMP:20260423T131802
CREATED:20251118T234330Z
LAST-MODIFIED:20251118T234332Z
UID:10002952-1868635800-1868639100@gvac.com
SUMMARY:Power Vinyasa Yoga\, Ian
DESCRIPTION:
URL:https://gvac.com/event/power-vinyasa-yoga-sepideh-2-2/2029-03-19/
LOCATION:Goleta Valley Athletic Club\, 170 Los Carneros Way\, Goleta\, CA\, 93117\, United States
CATEGORIES:Yoga
END:VEVENT
BEGIN:VEVENT
DTSTART;TZID=America/Los_Angeles:20290320T173000
DTEND;TZID=America/Los_Angeles:20290320T182500
DTSTAMP:20260423T131802
CREATED:20250401T230915Z
LAST-MODIFIED:20250401T230915Z
UID:10005563-1868722200-1868725500@gvac.com
SUMMARY:Power Flow Yoga\, Sarah M.
DESCRIPTION:
URL:https://gvac.com/event/power-flow-yoga-sarah-m/2029-03-20/
LOCATION:Goleta Valley Athletic Club\, 170 Los Carneros Way\, Goleta\, CA\, 93117\, United States
CATEGORIES:Yoga
END:VEVENT
BEGIN:VEVENT
DTSTART;TZID=America/Los_Angeles:20290321T173000
DTEND;TZID=America/Los_Angeles:20290321T182500
DTSTAMP:20260423T131802
CREATED:20251118T234232Z
LAST-MODIFIED:20251118T234235Z
UID:10005824-1868808600-1868811900@gvac.com
SUMMARY:Yoga Sculpt\, Krista
DESCRIPTION:
URL:https://gvac.com/event/vinyasa-flow-yoga-nadia-2/2029-03-21/
LOCATION:Goleta Valley Athletic Club\, 170 Los Carneros Way\, Goleta\, CA\, 93117\, United States
CATEGORIES:Yoga
END:VEVENT
BEGIN:VEVENT
DTSTART;TZID=America/Los_Angeles:20290322T173000
DTEND;TZID=America/Los_Angeles:20290322T183000
DTSTAMP:20260423T131802
CREATED:20251222T222624Z
LAST-MODIFIED:20251231T234714Z
UID:10011524-1868895000-1868898600@gvac.com
SUMMARY:Vinyasa Yoga\, Sarah E.
DESCRIPTION:
URL:https://gvac.com/event/vinyasa-yoga-morgan-3-2-2/2029-03-22/
LOCATION:Goleta Valley Athletic Club\, 170 Los Carneros Way\, Goleta\, CA\, 93117\, United States
CATEGORIES:Yoga
END:VEVENT
BEGIN:VEVENT
DTSTART;TZID=America/Los_Angeles:20290324T091500
DTEND;TZID=America/Los_Angeles:20290324T101000
DTSTAMP:20260423T131802
CREATED:20250929T183721Z
LAST-MODIFIED:20250929T183724Z
UID:10009161-1869038100-1869041400@gvac.com
SUMMARY:Vinyasa Yoga\, Ian
DESCRIPTION:
URL:https://gvac.com/event/vinyasa-yoga-morgan-2-2-2/2029-03-24/
LOCATION:Goleta Valley Athletic Club\, 170 Los Carneros Way\, Goleta\, CA\, 93117\, United States
CATEGORIES:Yoga
END:VEVENT
BEGIN:VEVENT
DTSTART;TZID=America/Los_Angeles:20290326T173000
DTEND;TZID=America/Los_Angeles:20290326T182500
DTSTAMP:20260423T131802
CREATED:20251118T234330Z
LAST-MODIFIED:20251118T234332Z
UID:10002953-1869240600-1869243900@gvac.com
SUMMARY:Power Vinyasa Yoga\, Ian
DESCRIPTION:
URL:https://gvac.com/event/power-vinyasa-yoga-sepideh-2-2/2029-03-26/
LOCATION:Goleta Valley Athletic Club\, 170 Los Carneros Way\, Goleta\, CA\, 93117\, United States
CATEGORIES:Yoga
END:VEVENT
BEGIN:VEVENT
DTSTART;TZID=America/Los_Angeles:20290327T173000
DTEND;TZID=America/Los_Angeles:20290327T182500
DTSTAMP:20260423T131802
CREATED:20250401T230915Z
LAST-MODIFIED:20250401T230915Z
UID:10005564-1869327000-1869330300@gvac.com
SUMMARY:Power Flow Yoga\, Sarah M.
DESCRIPTION:
URL:https://gvac.com/event/power-flow-yoga-sarah-m/2029-03-27/
LOCATION:Goleta Valley Athletic Club\, 170 Los Carneros Way\, Goleta\, CA\, 93117\, United States
CATEGORIES:Yoga
END:VEVENT
BEGIN:VEVENT
DTSTART;TZID=America/Los_Angeles:20290328T173000
DTEND;TZID=America/Los_Angeles:20290328T182500
DTSTAMP:20260423T131802
CREATED:20251118T234232Z
LAST-MODIFIED:20251118T234235Z
UID:10005825-1869413400-1869416700@gvac.com
SUMMARY:Yoga Sculpt\, Krista
DESCRIPTION:
URL:https://gvac.com/event/vinyasa-flow-yoga-nadia-2/2029-03-28/
LOCATION:Goleta Valley Athletic Club\, 170 Los Carneros Way\, Goleta\, CA\, 93117\, United States
CATEGORIES:Yoga
END:VEVENT
BEGIN:VEVENT
DTSTART;TZID=America/Los_Angeles:20290329T173000
DTEND;TZID=America/Los_Angeles:20290329T183000
DTSTAMP:20260423T131802
CREATED:20251222T222624Z
LAST-MODIFIED:20251231T234714Z
UID:10011525-1869499800-1869503400@gvac.com
SUMMARY:Vinyasa Yoga\, Sarah E.
DESCRIPTION:
URL:https://gvac.com/event/vinyasa-yoga-morgan-3-2-2/2029-03-29/
LOCATION:Goleta Valley Athletic Club\, 170 Los Carneros Way\, Goleta\, CA\, 93117\, United States
CATEGORIES:Yoga
END:VEVENT
BEGIN:VEVENT
DTSTART;TZID=America/Los_Angeles:20290331T091500
DTEND;TZID=America/Los_Angeles:20290331T101000
DTSTAMP:20260423T131802
CREATED:20250929T183721Z
LAST-MODIFIED:20250929T183724Z
UID:10009162-1869642900-1869646200@gvac.com
SUMMARY:Vinyasa Yoga\, Ian
DESCRIPTION:
URL:https://gvac.com/event/vinyasa-yoga-morgan-2-2-2/2029-03-31/
LOCATION:Goleta Valley Athletic Club\, 170 Los Carneros Way\, Goleta\, CA\, 93117\, United States
CATEGORIES:Yoga
END:VEVENT
END:VCALENDAR