BEGIN:VCALENDAR
VERSION:2.0
PRODID:-//Goleta Valley Athletic Club | Best Gym in Santa Barbara - ECPv6.15.20//NONSGML v1.0//EN
CALSCALE:GREGORIAN
METHOD:PUBLISH
X-WR-CALNAME:Goleta Valley Athletic Club | Best Gym in Santa Barbara
X-ORIGINAL-URL:https://gvac.com
X-WR-CALDESC:Events for Goleta Valley Athletic Club | Best Gym in Santa Barbara
REFRESH-INTERVAL;VALUE=DURATION:PT1H
X-Robots-Tag:noindex
X-PUBLISHED-TTL:PT1H
BEGIN:VTIMEZONE
TZID:America/Los_Angeles
BEGIN:DAYLIGHT
TZOFFSETFROM:-0800
TZOFFSETTO:-0700
TZNAME:PDT
DTSTART:20280312T100000
END:DAYLIGHT
BEGIN:STANDARD
TZOFFSETFROM:-0700
TZOFFSETTO:-0800
TZNAME:PST
DTSTART:20281105T090000
END:STANDARD
BEGIN:DAYLIGHT
TZOFFSETFROM:-0800
TZOFFSETTO:-0700
TZNAME:PDT
DTSTART:20290311T100000
END:DAYLIGHT
BEGIN:STANDARD
TZOFFSETFROM:-0700
TZOFFSETTO:-0800
TZNAME:PST
DTSTART:20291104T090000
END:STANDARD
BEGIN:DAYLIGHT
TZOFFSETFROM:-0800
TZOFFSETTO:-0700
TZNAME:PDT
DTSTART:20300310T100000
END:DAYLIGHT
BEGIN:STANDARD
TZOFFSETFROM:-0700
TZOFFSETTO:-0800
TZNAME:PST
DTSTART:20301103T090000
END:STANDARD
END:VTIMEZONE
BEGIN:VEVENT
DTSTART;TZID=America/Los_Angeles:20290402T173000
DTEND;TZID=America/Los_Angeles:20290402T182500
DTSTAMP:20260423T144056
CREATED:20251118T234330Z
LAST-MODIFIED:20251118T234332Z
UID:10002954-1869845400-1869848700@gvac.com
SUMMARY:Power Vinyasa Yoga\, Ian
DESCRIPTION:
URL:https://gvac.com/event/power-vinyasa-yoga-sepideh-2-2/2029-04-02/
LOCATION:Goleta Valley Athletic Club\, 170 Los Carneros Way\, Goleta\, CA\, 93117\, United States
CATEGORIES:Yoga
END:VEVENT
BEGIN:VEVENT
DTSTART;TZID=America/Los_Angeles:20290403T173000
DTEND;TZID=America/Los_Angeles:20290403T182500
DTSTAMP:20260423T144056
CREATED:20250401T230915Z
LAST-MODIFIED:20250401T230915Z
UID:10005565-1869931800-1869935100@gvac.com
SUMMARY:Power Flow Yoga\, Sarah M.
DESCRIPTION:
URL:https://gvac.com/event/power-flow-yoga-sarah-m/2029-04-03/
LOCATION:Goleta Valley Athletic Club\, 170 Los Carneros Way\, Goleta\, CA\, 93117\, United States
CATEGORIES:Yoga
END:VEVENT
BEGIN:VEVENT
DTSTART;TZID=America/Los_Angeles:20290404T173000
DTEND;TZID=America/Los_Angeles:20290404T182500
DTSTAMP:20260423T144056
CREATED:20251118T234232Z
LAST-MODIFIED:20251118T234235Z
UID:10005826-1870018200-1870021500@gvac.com
SUMMARY:Yoga Sculpt\, Krista
DESCRIPTION:
URL:https://gvac.com/event/vinyasa-flow-yoga-nadia-2/2029-04-04/
LOCATION:Goleta Valley Athletic Club\, 170 Los Carneros Way\, Goleta\, CA\, 93117\, United States
CATEGORIES:Yoga
END:VEVENT
BEGIN:VEVENT
DTSTART;TZID=America/Los_Angeles:20290405T173000
DTEND;TZID=America/Los_Angeles:20290405T183000
DTSTAMP:20260423T144056
CREATED:20251222T222624Z
LAST-MODIFIED:20251231T234714Z
UID:10011526-1870104600-1870108200@gvac.com
SUMMARY:Vinyasa Yoga\, Sarah E.
DESCRIPTION:
URL:https://gvac.com/event/vinyasa-yoga-morgan-3-2-2/2029-04-05/
LOCATION:Goleta Valley Athletic Club\, 170 Los Carneros Way\, Goleta\, CA\, 93117\, United States
CATEGORIES:Yoga
END:VEVENT
BEGIN:VEVENT
DTSTART;TZID=America/Los_Angeles:20290407T091500
DTEND;TZID=America/Los_Angeles:20290407T101000
DTSTAMP:20260423T144056
CREATED:20250929T183721Z
LAST-MODIFIED:20250929T183724Z
UID:10009163-1870247700-1870251000@gvac.com
SUMMARY:Vinyasa Yoga\, Ian
DESCRIPTION:
URL:https://gvac.com/event/vinyasa-yoga-morgan-2-2-2/2029-04-07/
LOCATION:Goleta Valley Athletic Club\, 170 Los Carneros Way\, Goleta\, CA\, 93117\, United States
CATEGORIES:Yoga
END:VEVENT
BEGIN:VEVENT
DTSTART;TZID=America/Los_Angeles:20290409T173000
DTEND;TZID=America/Los_Angeles:20290409T182500
DTSTAMP:20260423T144056
CREATED:20251118T234330Z
LAST-MODIFIED:20251118T234332Z
UID:10002955-1870450200-1870453500@gvac.com
SUMMARY:Power Vinyasa Yoga\, Ian
DESCRIPTION:
URL:https://gvac.com/event/power-vinyasa-yoga-sepideh-2-2/2029-04-09/
LOCATION:Goleta Valley Athletic Club\, 170 Los Carneros Way\, Goleta\, CA\, 93117\, United States
CATEGORIES:Yoga
END:VEVENT
BEGIN:VEVENT
DTSTART;TZID=America/Los_Angeles:20290410T173000
DTEND;TZID=America/Los_Angeles:20290410T182500
DTSTAMP:20260423T144056
CREATED:20250401T230915Z
LAST-MODIFIED:20250401T230915Z
UID:10005566-1870536600-1870539900@gvac.com
SUMMARY:Power Flow Yoga\, Sarah M.
DESCRIPTION:
URL:https://gvac.com/event/power-flow-yoga-sarah-m/2029-04-10/
LOCATION:Goleta Valley Athletic Club\, 170 Los Carneros Way\, Goleta\, CA\, 93117\, United States
CATEGORIES:Yoga
END:VEVENT
BEGIN:VEVENT
DTSTART;TZID=America/Los_Angeles:20290411T173000
DTEND;TZID=America/Los_Angeles:20290411T182500
DTSTAMP:20260423T144056
CREATED:20251118T234232Z
LAST-MODIFIED:20251118T234235Z
UID:10005827-1870623000-1870626300@gvac.com
SUMMARY:Yoga Sculpt\, Krista
DESCRIPTION:
URL:https://gvac.com/event/vinyasa-flow-yoga-nadia-2/2029-04-11/
LOCATION:Goleta Valley Athletic Club\, 170 Los Carneros Way\, Goleta\, CA\, 93117\, United States
CATEGORIES:Yoga
END:VEVENT
BEGIN:VEVENT
DTSTART;TZID=America/Los_Angeles:20290412T173000
DTEND;TZID=America/Los_Angeles:20290412T183000
DTSTAMP:20260423T144056
CREATED:20251222T222624Z
LAST-MODIFIED:20251231T234714Z
UID:10011527-1870709400-1870713000@gvac.com
SUMMARY:Vinyasa Yoga\, Sarah E.
DESCRIPTION:
URL:https://gvac.com/event/vinyasa-yoga-morgan-3-2-2/2029-04-12/
LOCATION:Goleta Valley Athletic Club\, 170 Los Carneros Way\, Goleta\, CA\, 93117\, United States
CATEGORIES:Yoga
END:VEVENT
BEGIN:VEVENT
DTSTART;TZID=America/Los_Angeles:20290414T091500
DTEND;TZID=America/Los_Angeles:20290414T101000
DTSTAMP:20260423T144056
CREATED:20250929T183721Z
LAST-MODIFIED:20250929T183724Z
UID:10009164-1870852500-1870855800@gvac.com
SUMMARY:Vinyasa Yoga\, Ian
DESCRIPTION:
URL:https://gvac.com/event/vinyasa-yoga-morgan-2-2-2/2029-04-14/
LOCATION:Goleta Valley Athletic Club\, 170 Los Carneros Way\, Goleta\, CA\, 93117\, United States
CATEGORIES:Yoga
END:VEVENT
BEGIN:VEVENT
DTSTART;TZID=America/Los_Angeles:20290416T173000
DTEND;TZID=America/Los_Angeles:20290416T182500
DTSTAMP:20260423T144056
CREATED:20251118T234330Z
LAST-MODIFIED:20251118T234332Z
UID:10002956-1871055000-1871058300@gvac.com
SUMMARY:Power Vinyasa Yoga\, Ian
DESCRIPTION:
URL:https://gvac.com/event/power-vinyasa-yoga-sepideh-2-2/2029-04-16/
LOCATION:Goleta Valley Athletic Club\, 170 Los Carneros Way\, Goleta\, CA\, 93117\, United States
CATEGORIES:Yoga
END:VEVENT
BEGIN:VEVENT
DTSTART;TZID=America/Los_Angeles:20290417T173000
DTEND;TZID=America/Los_Angeles:20290417T182500
DTSTAMP:20260423T144056
CREATED:20250401T230915Z
LAST-MODIFIED:20250401T230915Z
UID:10005567-1871141400-1871144700@gvac.com
SUMMARY:Power Flow Yoga\, Sarah M.
DESCRIPTION:
URL:https://gvac.com/event/power-flow-yoga-sarah-m/2029-04-17/
LOCATION:Goleta Valley Athletic Club\, 170 Los Carneros Way\, Goleta\, CA\, 93117\, United States
CATEGORIES:Yoga
END:VEVENT
BEGIN:VEVENT
DTSTART;TZID=America/Los_Angeles:20290418T173000
DTEND;TZID=America/Los_Angeles:20290418T182500
DTSTAMP:20260423T144056
CREATED:20251118T234232Z
LAST-MODIFIED:20251118T234235Z
UID:10005828-1871227800-1871231100@gvac.com
SUMMARY:Yoga Sculpt\, Krista
DESCRIPTION:
URL:https://gvac.com/event/vinyasa-flow-yoga-nadia-2/2029-04-18/
LOCATION:Goleta Valley Athletic Club\, 170 Los Carneros Way\, Goleta\, CA\, 93117\, United States
CATEGORIES:Yoga
END:VEVENT
BEGIN:VEVENT
DTSTART;TZID=America/Los_Angeles:20290419T173000
DTEND;TZID=America/Los_Angeles:20290419T183000
DTSTAMP:20260423T144057
CREATED:20251222T222624Z
LAST-MODIFIED:20251231T234714Z
UID:10011528-1871314200-1871317800@gvac.com
SUMMARY:Vinyasa Yoga\, Sarah E.
DESCRIPTION:
URL:https://gvac.com/event/vinyasa-yoga-morgan-3-2-2/2029-04-19/
LOCATION:Goleta Valley Athletic Club\, 170 Los Carneros Way\, Goleta\, CA\, 93117\, United States
CATEGORIES:Yoga
END:VEVENT
BEGIN:VEVENT
DTSTART;TZID=America/Los_Angeles:20290421T091500
DTEND;TZID=America/Los_Angeles:20290421T101000
DTSTAMP:20260423T144057
CREATED:20250929T183721Z
LAST-MODIFIED:20250929T183724Z
UID:10009165-1871457300-1871460600@gvac.com
SUMMARY:Vinyasa Yoga\, Ian
DESCRIPTION:
URL:https://gvac.com/event/vinyasa-yoga-morgan-2-2-2/2029-04-21/
LOCATION:Goleta Valley Athletic Club\, 170 Los Carneros Way\, Goleta\, CA\, 93117\, United States
CATEGORIES:Yoga
END:VEVENT
BEGIN:VEVENT
DTSTART;TZID=America/Los_Angeles:20290423T173000
DTEND;TZID=America/Los_Angeles:20290423T182500
DTSTAMP:20260423T144057
CREATED:20251118T234330Z
LAST-MODIFIED:20251118T234332Z
UID:10002957-1871659800-1871663100@gvac.com
SUMMARY:Power Vinyasa Yoga\, Ian
DESCRIPTION:
URL:https://gvac.com/event/power-vinyasa-yoga-sepideh-2-2/2029-04-23/
LOCATION:Goleta Valley Athletic Club\, 170 Los Carneros Way\, Goleta\, CA\, 93117\, United States
CATEGORIES:Yoga
END:VEVENT
BEGIN:VEVENT
DTSTART;TZID=America/Los_Angeles:20290424T173000
DTEND;TZID=America/Los_Angeles:20290424T182500
DTSTAMP:20260423T144057
CREATED:20250401T230915Z
LAST-MODIFIED:20250401T230915Z
UID:10005568-1871746200-1871749500@gvac.com
SUMMARY:Power Flow Yoga\, Sarah M.
DESCRIPTION:
URL:https://gvac.com/event/power-flow-yoga-sarah-m/2029-04-24/
LOCATION:Goleta Valley Athletic Club\, 170 Los Carneros Way\, Goleta\, CA\, 93117\, United States
CATEGORIES:Yoga
END:VEVENT
BEGIN:VEVENT
DTSTART;TZID=America/Los_Angeles:20290425T173000
DTEND;TZID=America/Los_Angeles:20290425T182500
DTSTAMP:20260423T144057
CREATED:20251118T234232Z
LAST-MODIFIED:20251118T234235Z
UID:10005829-1871832600-1871835900@gvac.com
SUMMARY:Yoga Sculpt\, Krista
DESCRIPTION:
URL:https://gvac.com/event/vinyasa-flow-yoga-nadia-2/2029-04-25/
LOCATION:Goleta Valley Athletic Club\, 170 Los Carneros Way\, Goleta\, CA\, 93117\, United States
CATEGORIES:Yoga
END:VEVENT
BEGIN:VEVENT
DTSTART;TZID=America/Los_Angeles:20290426T173000
DTEND;TZID=America/Los_Angeles:20290426T183000
DTSTAMP:20260423T144057
CREATED:20251222T222624Z
LAST-MODIFIED:20251231T234714Z
UID:10011529-1871919000-1871922600@gvac.com
SUMMARY:Vinyasa Yoga\, Sarah E.
DESCRIPTION:
URL:https://gvac.com/event/vinyasa-yoga-morgan-3-2-2/2029-04-26/
LOCATION:Goleta Valley Athletic Club\, 170 Los Carneros Way\, Goleta\, CA\, 93117\, United States
CATEGORIES:Yoga
END:VEVENT
BEGIN:VEVENT
DTSTART;TZID=America/Los_Angeles:20290428T091500
DTEND;TZID=America/Los_Angeles:20290428T101000
DTSTAMP:20260423T144057
CREATED:20250929T183721Z
LAST-MODIFIED:20250929T183724Z
UID:10009166-1872062100-1872065400@gvac.com
SUMMARY:Vinyasa Yoga\, Ian
DESCRIPTION:
URL:https://gvac.com/event/vinyasa-yoga-morgan-2-2-2/2029-04-28/
LOCATION:Goleta Valley Athletic Club\, 170 Los Carneros Way\, Goleta\, CA\, 93117\, United States
CATEGORIES:Yoga
END:VEVENT
END:VCALENDAR