BEGIN:VCALENDAR
VERSION:2.0
PRODID:-//Goleta Valley Athletic Club | Best Gym in Santa Barbara - ECPv6.15.20//NONSGML v1.0//EN
CALSCALE:GREGORIAN
METHOD:PUBLISH
X-WR-CALNAME:Goleta Valley Athletic Club | Best Gym in Santa Barbara
X-ORIGINAL-URL:https://gvac.com
X-WR-CALDESC:Events for Goleta Valley Athletic Club | Best Gym in Santa Barbara
REFRESH-INTERVAL;VALUE=DURATION:PT1H
X-Robots-Tag:noindex
X-PUBLISHED-TTL:PT1H
BEGIN:VTIMEZONE
TZID:America/Los_Angeles
BEGIN:DAYLIGHT
TZOFFSETFROM:-0800
TZOFFSETTO:-0700
TZNAME:PDT
DTSTART:20280312T100000
END:DAYLIGHT
BEGIN:STANDARD
TZOFFSETFROM:-0700
TZOFFSETTO:-0800
TZNAME:PST
DTSTART:20281105T090000
END:STANDARD
BEGIN:DAYLIGHT
TZOFFSETFROM:-0800
TZOFFSETTO:-0700
TZNAME:PDT
DTSTART:20290311T100000
END:DAYLIGHT
BEGIN:STANDARD
TZOFFSETFROM:-0700
TZOFFSETTO:-0800
TZNAME:PST
DTSTART:20291104T090000
END:STANDARD
BEGIN:DAYLIGHT
TZOFFSETFROM:-0800
TZOFFSETTO:-0700
TZNAME:PDT
DTSTART:20300310T100000
END:DAYLIGHT
BEGIN:STANDARD
TZOFFSETFROM:-0700
TZOFFSETTO:-0800
TZNAME:PST
DTSTART:20301103T090000
END:STANDARD
END:VTIMEZONE
BEGIN:VEVENT
DTSTART;TZID=America/Los_Angeles:20290731T173000
DTEND;TZID=America/Los_Angeles:20290731T182500
DTSTAMP:20260423T194749
CREATED:20250401T230915Z
LAST-MODIFIED:20250401T230915Z
UID:10005582-1880213400-1880216700@gvac.com
SUMMARY:Power Flow Yoga\, Sarah M.
DESCRIPTION:
URL:https://gvac.com/event/power-flow-yoga-sarah-m/2029-07-31/
LOCATION:Goleta Valley Athletic Club\, 170 Los Carneros Way\, Goleta\, CA\, 93117\, United States
CATEGORIES:Yoga
END:VEVENT
BEGIN:VEVENT
DTSTART;TZID=America/Los_Angeles:20290801T173000
DTEND;TZID=America/Los_Angeles:20290801T182500
DTSTAMP:20260423T194749
CREATED:20251118T234232Z
LAST-MODIFIED:20251118T234235Z
UID:10005843-1880299800-1880303100@gvac.com
SUMMARY:Yoga Sculpt\, Krista
DESCRIPTION:
URL:https://gvac.com/event/vinyasa-flow-yoga-nadia-2/2029-08-01/
LOCATION:Goleta Valley Athletic Club\, 170 Los Carneros Way\, Goleta\, CA\, 93117\, United States
CATEGORIES:Yoga
END:VEVENT
BEGIN:VEVENT
DTSTART;TZID=America/Los_Angeles:20290802T173000
DTEND;TZID=America/Los_Angeles:20290802T183000
DTSTAMP:20260423T194749
CREATED:20251222T222624Z
LAST-MODIFIED:20251231T234714Z
UID:10011543-1880386200-1880389800@gvac.com
SUMMARY:Vinyasa Yoga\, Sarah E.
DESCRIPTION:
URL:https://gvac.com/event/vinyasa-yoga-morgan-3-2-2/2029-08-02/
LOCATION:Goleta Valley Athletic Club\, 170 Los Carneros Way\, Goleta\, CA\, 93117\, United States
CATEGORIES:Yoga
END:VEVENT
BEGIN:VEVENT
DTSTART;TZID=America/Los_Angeles:20290804T091500
DTEND;TZID=America/Los_Angeles:20290804T101000
DTSTAMP:20260423T194749
CREATED:20250929T183721Z
LAST-MODIFIED:20250929T183724Z
UID:10009180-1880529300-1880532600@gvac.com
SUMMARY:Vinyasa Yoga\, Ian
DESCRIPTION:
URL:https://gvac.com/event/vinyasa-yoga-morgan-2-2-2/2029-08-04/
LOCATION:Goleta Valley Athletic Club\, 170 Los Carneros Way\, Goleta\, CA\, 93117\, United States
CATEGORIES:Yoga
END:VEVENT
BEGIN:VEVENT
DTSTART;TZID=America/Los_Angeles:20290806T173000
DTEND;TZID=America/Los_Angeles:20290806T182500
DTSTAMP:20260423T194749
CREATED:20251118T234330Z
LAST-MODIFIED:20251118T234332Z
UID:10002972-1880731800-1880735100@gvac.com
SUMMARY:Power Vinyasa Yoga\, Ian
DESCRIPTION:
URL:https://gvac.com/event/power-vinyasa-yoga-sepideh-2-2/2029-08-06/
LOCATION:Goleta Valley Athletic Club\, 170 Los Carneros Way\, Goleta\, CA\, 93117\, United States
CATEGORIES:Yoga
END:VEVENT
BEGIN:VEVENT
DTSTART;TZID=America/Los_Angeles:20290807T173000
DTEND;TZID=America/Los_Angeles:20290807T182500
DTSTAMP:20260423T194749
CREATED:20250401T230915Z
LAST-MODIFIED:20250401T230915Z
UID:10005583-1880818200-1880821500@gvac.com
SUMMARY:Power Flow Yoga\, Sarah M.
DESCRIPTION:
URL:https://gvac.com/event/power-flow-yoga-sarah-m/2029-08-07/
LOCATION:Goleta Valley Athletic Club\, 170 Los Carneros Way\, Goleta\, CA\, 93117\, United States
CATEGORIES:Yoga
END:VEVENT
BEGIN:VEVENT
DTSTART;TZID=America/Los_Angeles:20290808T173000
DTEND;TZID=America/Los_Angeles:20290808T182500
DTSTAMP:20260423T194749
CREATED:20251118T234232Z
LAST-MODIFIED:20251118T234235Z
UID:10005844-1880904600-1880907900@gvac.com
SUMMARY:Yoga Sculpt\, Krista
DESCRIPTION:
URL:https://gvac.com/event/vinyasa-flow-yoga-nadia-2/2029-08-08/
LOCATION:Goleta Valley Athletic Club\, 170 Los Carneros Way\, Goleta\, CA\, 93117\, United States
CATEGORIES:Yoga
END:VEVENT
BEGIN:VEVENT
DTSTART;TZID=America/Los_Angeles:20290809T173000
DTEND;TZID=America/Los_Angeles:20290809T183000
DTSTAMP:20260423T194749
CREATED:20251222T222624Z
LAST-MODIFIED:20251231T234714Z
UID:10011544-1880991000-1880994600@gvac.com
SUMMARY:Vinyasa Yoga\, Sarah E.
DESCRIPTION:
URL:https://gvac.com/event/vinyasa-yoga-morgan-3-2-2/2029-08-09/
LOCATION:Goleta Valley Athletic Club\, 170 Los Carneros Way\, Goleta\, CA\, 93117\, United States
CATEGORIES:Yoga
END:VEVENT
BEGIN:VEVENT
DTSTART;TZID=America/Los_Angeles:20290811T091500
DTEND;TZID=America/Los_Angeles:20290811T101000
DTSTAMP:20260423T194749
CREATED:20250929T183721Z
LAST-MODIFIED:20250929T183724Z
UID:10009181-1881134100-1881137400@gvac.com
SUMMARY:Vinyasa Yoga\, Ian
DESCRIPTION:
URL:https://gvac.com/event/vinyasa-yoga-morgan-2-2-2/2029-08-11/
LOCATION:Goleta Valley Athletic Club\, 170 Los Carneros Way\, Goleta\, CA\, 93117\, United States
CATEGORIES:Yoga
END:VEVENT
BEGIN:VEVENT
DTSTART;TZID=America/Los_Angeles:20290813T173000
DTEND;TZID=America/Los_Angeles:20290813T182500
DTSTAMP:20260423T194749
CREATED:20251118T234330Z
LAST-MODIFIED:20251118T234332Z
UID:10002973-1881336600-1881339900@gvac.com
SUMMARY:Power Vinyasa Yoga\, Ian
DESCRIPTION:
URL:https://gvac.com/event/power-vinyasa-yoga-sepideh-2-2/2029-08-13/
LOCATION:Goleta Valley Athletic Club\, 170 Los Carneros Way\, Goleta\, CA\, 93117\, United States
CATEGORIES:Yoga
END:VEVENT
BEGIN:VEVENT
DTSTART;TZID=America/Los_Angeles:20290814T173000
DTEND;TZID=America/Los_Angeles:20290814T182500
DTSTAMP:20260423T194749
CREATED:20250401T230915Z
LAST-MODIFIED:20250401T230915Z
UID:10005584-1881423000-1881426300@gvac.com
SUMMARY:Power Flow Yoga\, Sarah M.
DESCRIPTION:
URL:https://gvac.com/event/power-flow-yoga-sarah-m/2029-08-14/
LOCATION:Goleta Valley Athletic Club\, 170 Los Carneros Way\, Goleta\, CA\, 93117\, United States
CATEGORIES:Yoga
END:VEVENT
BEGIN:VEVENT
DTSTART;TZID=America/Los_Angeles:20290815T173000
DTEND;TZID=America/Los_Angeles:20290815T182500
DTSTAMP:20260423T194749
CREATED:20251118T234232Z
LAST-MODIFIED:20251118T234235Z
UID:10005845-1881509400-1881512700@gvac.com
SUMMARY:Yoga Sculpt\, Krista
DESCRIPTION:
URL:https://gvac.com/event/vinyasa-flow-yoga-nadia-2/2029-08-15/
LOCATION:Goleta Valley Athletic Club\, 170 Los Carneros Way\, Goleta\, CA\, 93117\, United States
CATEGORIES:Yoga
END:VEVENT
BEGIN:VEVENT
DTSTART;TZID=America/Los_Angeles:20290816T173000
DTEND;TZID=America/Los_Angeles:20290816T183000
DTSTAMP:20260423T194749
CREATED:20251222T222624Z
LAST-MODIFIED:20251231T234714Z
UID:10011545-1881595800-1881599400@gvac.com
SUMMARY:Vinyasa Yoga\, Sarah E.
DESCRIPTION:
URL:https://gvac.com/event/vinyasa-yoga-morgan-3-2-2/2029-08-16/
LOCATION:Goleta Valley Athletic Club\, 170 Los Carneros Way\, Goleta\, CA\, 93117\, United States
CATEGORIES:Yoga
END:VEVENT
BEGIN:VEVENT
DTSTART;TZID=America/Los_Angeles:20290818T091500
DTEND;TZID=America/Los_Angeles:20290818T101000
DTSTAMP:20260423T194749
CREATED:20250929T183721Z
LAST-MODIFIED:20250929T183724Z
UID:10009182-1881738900-1881742200@gvac.com
SUMMARY:Vinyasa Yoga\, Ian
DESCRIPTION:
URL:https://gvac.com/event/vinyasa-yoga-morgan-2-2-2/2029-08-18/
LOCATION:Goleta Valley Athletic Club\, 170 Los Carneros Way\, Goleta\, CA\, 93117\, United States
CATEGORIES:Yoga
END:VEVENT
BEGIN:VEVENT
DTSTART;TZID=America/Los_Angeles:20290820T173000
DTEND;TZID=America/Los_Angeles:20290820T182500
DTSTAMP:20260423T194749
CREATED:20251118T234330Z
LAST-MODIFIED:20251118T234332Z
UID:10002974-1881941400-1881944700@gvac.com
SUMMARY:Power Vinyasa Yoga\, Ian
DESCRIPTION:
URL:https://gvac.com/event/power-vinyasa-yoga-sepideh-2-2/2029-08-20/
LOCATION:Goleta Valley Athletic Club\, 170 Los Carneros Way\, Goleta\, CA\, 93117\, United States
CATEGORIES:Yoga
END:VEVENT
BEGIN:VEVENT
DTSTART;TZID=America/Los_Angeles:20290821T173000
DTEND;TZID=America/Los_Angeles:20290821T182500
DTSTAMP:20260423T194749
CREATED:20250401T230915Z
LAST-MODIFIED:20250401T230915Z
UID:10005585-1882027800-1882031100@gvac.com
SUMMARY:Power Flow Yoga\, Sarah M.
DESCRIPTION:
URL:https://gvac.com/event/power-flow-yoga-sarah-m/2029-08-21/
LOCATION:Goleta Valley Athletic Club\, 170 Los Carneros Way\, Goleta\, CA\, 93117\, United States
CATEGORIES:Yoga
END:VEVENT
BEGIN:VEVENT
DTSTART;TZID=America/Los_Angeles:20290822T173000
DTEND;TZID=America/Los_Angeles:20290822T182500
DTSTAMP:20260423T194749
CREATED:20251118T234232Z
LAST-MODIFIED:20251118T234235Z
UID:10005846-1882114200-1882117500@gvac.com
SUMMARY:Yoga Sculpt\, Krista
DESCRIPTION:
URL:https://gvac.com/event/vinyasa-flow-yoga-nadia-2/2029-08-22/
LOCATION:Goleta Valley Athletic Club\, 170 Los Carneros Way\, Goleta\, CA\, 93117\, United States
CATEGORIES:Yoga
END:VEVENT
BEGIN:VEVENT
DTSTART;TZID=America/Los_Angeles:20290823T173000
DTEND;TZID=America/Los_Angeles:20290823T183000
DTSTAMP:20260423T194749
CREATED:20251222T222624Z
LAST-MODIFIED:20251231T234714Z
UID:10011546-1882200600-1882204200@gvac.com
SUMMARY:Vinyasa Yoga\, Sarah E.
DESCRIPTION:
URL:https://gvac.com/event/vinyasa-yoga-morgan-3-2-2/2029-08-23/
LOCATION:Goleta Valley Athletic Club\, 170 Los Carneros Way\, Goleta\, CA\, 93117\, United States
CATEGORIES:Yoga
END:VEVENT
BEGIN:VEVENT
DTSTART;TZID=America/Los_Angeles:20290825T091500
DTEND;TZID=America/Los_Angeles:20290825T101000
DTSTAMP:20260423T194749
CREATED:20250929T183721Z
LAST-MODIFIED:20250929T183724Z
UID:10009183-1882343700-1882347000@gvac.com
SUMMARY:Vinyasa Yoga\, Ian
DESCRIPTION:
URL:https://gvac.com/event/vinyasa-yoga-morgan-2-2-2/2029-08-25/
LOCATION:Goleta Valley Athletic Club\, 170 Los Carneros Way\, Goleta\, CA\, 93117\, United States
CATEGORIES:Yoga
END:VEVENT
BEGIN:VEVENT
DTSTART;TZID=America/Los_Angeles:20290827T173000
DTEND;TZID=America/Los_Angeles:20290827T182500
DTSTAMP:20260423T194749
CREATED:20251118T234330Z
LAST-MODIFIED:20251118T234332Z
UID:10002975-1882546200-1882549500@gvac.com
SUMMARY:Power Vinyasa Yoga\, Ian
DESCRIPTION:
URL:https://gvac.com/event/power-vinyasa-yoga-sepideh-2-2/2029-08-27/
LOCATION:Goleta Valley Athletic Club\, 170 Los Carneros Way\, Goleta\, CA\, 93117\, United States
CATEGORIES:Yoga
END:VEVENT
BEGIN:VEVENT
DTSTART;TZID=America/Los_Angeles:20290828T173000
DTEND;TZID=America/Los_Angeles:20290828T182500
DTSTAMP:20260423T194749
CREATED:20250401T230915Z
LAST-MODIFIED:20250401T230915Z
UID:10005586-1882632600-1882635900@gvac.com
SUMMARY:Power Flow Yoga\, Sarah M.
DESCRIPTION:
URL:https://gvac.com/event/power-flow-yoga-sarah-m/2029-08-28/
LOCATION:Goleta Valley Athletic Club\, 170 Los Carneros Way\, Goleta\, CA\, 93117\, United States
CATEGORIES:Yoga
END:VEVENT
BEGIN:VEVENT
DTSTART;TZID=America/Los_Angeles:20290829T173000
DTEND;TZID=America/Los_Angeles:20290829T182500
DTSTAMP:20260423T194749
CREATED:20251118T234232Z
LAST-MODIFIED:20251118T234235Z
UID:10005847-1882719000-1882722300@gvac.com
SUMMARY:Yoga Sculpt\, Krista
DESCRIPTION:
URL:https://gvac.com/event/vinyasa-flow-yoga-nadia-2/2029-08-29/
LOCATION:Goleta Valley Athletic Club\, 170 Los Carneros Way\, Goleta\, CA\, 93117\, United States
CATEGORIES:Yoga
END:VEVENT
BEGIN:VEVENT
DTSTART;TZID=America/Los_Angeles:20290830T173000
DTEND;TZID=America/Los_Angeles:20290830T183000
DTSTAMP:20260423T194749
CREATED:20251222T222624Z
LAST-MODIFIED:20251231T234714Z
UID:10011547-1882805400-1882809000@gvac.com
SUMMARY:Vinyasa Yoga\, Sarah E.
DESCRIPTION:
URL:https://gvac.com/event/vinyasa-yoga-morgan-3-2-2/2029-08-30/
LOCATION:Goleta Valley Athletic Club\, 170 Los Carneros Way\, Goleta\, CA\, 93117\, United States
CATEGORIES:Yoga
END:VEVENT
END:VCALENDAR