BEGIN:VCALENDAR
VERSION:2.0
PRODID:-//Goleta Valley Athletic Club | Best Gym in Santa Barbara - ECPv6.15.20//NONSGML v1.0//EN
CALSCALE:GREGORIAN
METHOD:PUBLISH
X-WR-CALNAME:Goleta Valley Athletic Club | Best Gym in Santa Barbara
X-ORIGINAL-URL:https://gvac.com
X-WR-CALDESC:Events for Goleta Valley Athletic Club | Best Gym in Santa Barbara
REFRESH-INTERVAL;VALUE=DURATION:PT1H
X-Robots-Tag:noindex
X-PUBLISHED-TTL:PT1H
BEGIN:VTIMEZONE
TZID:America/Los_Angeles
BEGIN:DAYLIGHT
TZOFFSETFROM:-0800
TZOFFSETTO:-0700
TZNAME:PDT
DTSTART:20280312T100000
END:DAYLIGHT
BEGIN:STANDARD
TZOFFSETFROM:-0700
TZOFFSETTO:-0800
TZNAME:PST
DTSTART:20281105T090000
END:STANDARD
BEGIN:DAYLIGHT
TZOFFSETFROM:-0800
TZOFFSETTO:-0700
TZNAME:PDT
DTSTART:20290311T100000
END:DAYLIGHT
BEGIN:STANDARD
TZOFFSETFROM:-0700
TZOFFSETTO:-0800
TZNAME:PST
DTSTART:20291104T090000
END:STANDARD
BEGIN:DAYLIGHT
TZOFFSETFROM:-0800
TZOFFSETTO:-0700
TZNAME:PDT
DTSTART:20300310T100000
END:DAYLIGHT
BEGIN:STANDARD
TZOFFSETFROM:-0700
TZOFFSETTO:-0800
TZNAME:PST
DTSTART:20301103T090000
END:STANDARD
END:VTIMEZONE
BEGIN:VEVENT
DTSTART;TZID=America/Los_Angeles:20291031T173000
DTEND;TZID=America/Los_Angeles:20291031T182500
DTSTAMP:20260423T235052
CREATED:20251118T234232Z
LAST-MODIFIED:20251118T234235Z
UID:10005856-1888162200-1888165500@gvac.com
SUMMARY:Yoga Sculpt\, Krista
DESCRIPTION:
URL:https://gvac.com/event/vinyasa-flow-yoga-nadia-2/2029-10-31/
LOCATION:Goleta Valley Athletic Club\, 170 Los Carneros Way\, Goleta\, CA\, 93117\, United States
CATEGORIES:Yoga
END:VEVENT
BEGIN:VEVENT
DTSTART;TZID=America/Los_Angeles:20291101T173000
DTEND;TZID=America/Los_Angeles:20291101T183000
DTSTAMP:20260423T235052
CREATED:20251222T222624Z
LAST-MODIFIED:20251231T234714Z
UID:10011556-1888248600-1888252200@gvac.com
SUMMARY:Vinyasa Yoga\, Sarah E.
DESCRIPTION:
URL:https://gvac.com/event/vinyasa-yoga-morgan-3-2-2/2029-11-01/
LOCATION:Goleta Valley Athletic Club\, 170 Los Carneros Way\, Goleta\, CA\, 93117\, United States
CATEGORIES:Yoga
END:VEVENT
BEGIN:VEVENT
DTSTART;TZID=America/Los_Angeles:20291103T091500
DTEND;TZID=America/Los_Angeles:20291103T101000
DTSTAMP:20260423T235052
CREATED:20250929T183721Z
LAST-MODIFIED:20250929T183724Z
UID:10009193-1888391700-1888395000@gvac.com
SUMMARY:Vinyasa Yoga\, Ian
DESCRIPTION:
URL:https://gvac.com/event/vinyasa-yoga-morgan-2-2-2/2029-11-03/
LOCATION:Goleta Valley Athletic Club\, 170 Los Carneros Way\, Goleta\, CA\, 93117\, United States
CATEGORIES:Yoga
END:VEVENT
BEGIN:VEVENT
DTSTART;TZID=America/Los_Angeles:20291105T173000
DTEND;TZID=America/Los_Angeles:20291105T182500
DTSTAMP:20260423T235052
CREATED:20251118T234330Z
LAST-MODIFIED:20251118T234332Z
UID:10002985-1888594200-1888597500@gvac.com
SUMMARY:Power Vinyasa Yoga\, Ian
DESCRIPTION:
URL:https://gvac.com/event/power-vinyasa-yoga-sepideh-2-2/2029-11-05/
LOCATION:Goleta Valley Athletic Club\, 170 Los Carneros Way\, Goleta\, CA\, 93117\, United States
CATEGORIES:Yoga
END:VEVENT
BEGIN:VEVENT
DTSTART;TZID=America/Los_Angeles:20291106T173000
DTEND;TZID=America/Los_Angeles:20291106T182500
DTSTAMP:20260423T235052
CREATED:20250401T230915Z
LAST-MODIFIED:20250401T230915Z
UID:10005596-1888680600-1888683900@gvac.com
SUMMARY:Power Flow Yoga\, Sarah M.
DESCRIPTION:
URL:https://gvac.com/event/power-flow-yoga-sarah-m/2029-11-06/
LOCATION:Goleta Valley Athletic Club\, 170 Los Carneros Way\, Goleta\, CA\, 93117\, United States
CATEGORIES:Yoga
END:VEVENT
BEGIN:VEVENT
DTSTART;TZID=America/Los_Angeles:20291107T173000
DTEND;TZID=America/Los_Angeles:20291107T182500
DTSTAMP:20260423T235052
CREATED:20251118T234232Z
LAST-MODIFIED:20251118T234235Z
UID:10005857-1888767000-1888770300@gvac.com
SUMMARY:Yoga Sculpt\, Krista
DESCRIPTION:
URL:https://gvac.com/event/vinyasa-flow-yoga-nadia-2/2029-11-07/
LOCATION:Goleta Valley Athletic Club\, 170 Los Carneros Way\, Goleta\, CA\, 93117\, United States
CATEGORIES:Yoga
END:VEVENT
BEGIN:VEVENT
DTSTART;TZID=America/Los_Angeles:20291108T173000
DTEND;TZID=America/Los_Angeles:20291108T183000
DTSTAMP:20260423T235052
CREATED:20251222T222624Z
LAST-MODIFIED:20251231T234714Z
UID:10011557-1888853400-1888857000@gvac.com
SUMMARY:Vinyasa Yoga\, Sarah E.
DESCRIPTION:
URL:https://gvac.com/event/vinyasa-yoga-morgan-3-2-2/2029-11-08/
LOCATION:Goleta Valley Athletic Club\, 170 Los Carneros Way\, Goleta\, CA\, 93117\, United States
CATEGORIES:Yoga
END:VEVENT
BEGIN:VEVENT
DTSTART;TZID=America/Los_Angeles:20291110T091500
DTEND;TZID=America/Los_Angeles:20291110T101000
DTSTAMP:20260423T235052
CREATED:20250929T183721Z
LAST-MODIFIED:20250929T183724Z
UID:10009194-1888996500-1888999800@gvac.com
SUMMARY:Vinyasa Yoga\, Ian
DESCRIPTION:
URL:https://gvac.com/event/vinyasa-yoga-morgan-2-2-2/2029-11-10/
LOCATION:Goleta Valley Athletic Club\, 170 Los Carneros Way\, Goleta\, CA\, 93117\, United States
CATEGORIES:Yoga
END:VEVENT
BEGIN:VEVENT
DTSTART;TZID=America/Los_Angeles:20291112T173000
DTEND;TZID=America/Los_Angeles:20291112T182500
DTSTAMP:20260423T235052
CREATED:20251118T234330Z
LAST-MODIFIED:20251118T234332Z
UID:10002986-1889199000-1889202300@gvac.com
SUMMARY:Power Vinyasa Yoga\, Ian
DESCRIPTION:
URL:https://gvac.com/event/power-vinyasa-yoga-sepideh-2-2/2029-11-12/
LOCATION:Goleta Valley Athletic Club\, 170 Los Carneros Way\, Goleta\, CA\, 93117\, United States
CATEGORIES:Yoga
END:VEVENT
BEGIN:VEVENT
DTSTART;TZID=America/Los_Angeles:20291113T173000
DTEND;TZID=America/Los_Angeles:20291113T182500
DTSTAMP:20260423T235052
CREATED:20250401T230915Z
LAST-MODIFIED:20250401T230915Z
UID:10005597-1889285400-1889288700@gvac.com
SUMMARY:Power Flow Yoga\, Sarah M.
DESCRIPTION:
URL:https://gvac.com/event/power-flow-yoga-sarah-m/2029-11-13/
LOCATION:Goleta Valley Athletic Club\, 170 Los Carneros Way\, Goleta\, CA\, 93117\, United States
CATEGORIES:Yoga
END:VEVENT
BEGIN:VEVENT
DTSTART;TZID=America/Los_Angeles:20291114T173000
DTEND;TZID=America/Los_Angeles:20291114T182500
DTSTAMP:20260423T235052
CREATED:20251118T234232Z
LAST-MODIFIED:20251118T234235Z
UID:10005858-1889371800-1889375100@gvac.com
SUMMARY:Yoga Sculpt\, Krista
DESCRIPTION:
URL:https://gvac.com/event/vinyasa-flow-yoga-nadia-2/2029-11-14/
LOCATION:Goleta Valley Athletic Club\, 170 Los Carneros Way\, Goleta\, CA\, 93117\, United States
CATEGORIES:Yoga
END:VEVENT
BEGIN:VEVENT
DTSTART;TZID=America/Los_Angeles:20291115T173000
DTEND;TZID=America/Los_Angeles:20291115T183000
DTSTAMP:20260423T235052
CREATED:20251222T222624Z
LAST-MODIFIED:20251231T234714Z
UID:10011558-1889458200-1889461800@gvac.com
SUMMARY:Vinyasa Yoga\, Sarah E.
DESCRIPTION:
URL:https://gvac.com/event/vinyasa-yoga-morgan-3-2-2/2029-11-15/
LOCATION:Goleta Valley Athletic Club\, 170 Los Carneros Way\, Goleta\, CA\, 93117\, United States
CATEGORIES:Yoga
END:VEVENT
BEGIN:VEVENT
DTSTART;TZID=America/Los_Angeles:20291117T091500
DTEND;TZID=America/Los_Angeles:20291117T101000
DTSTAMP:20260423T235052
CREATED:20250929T183721Z
LAST-MODIFIED:20250929T183724Z
UID:10009195-1889601300-1889604600@gvac.com
SUMMARY:Vinyasa Yoga\, Ian
DESCRIPTION:
URL:https://gvac.com/event/vinyasa-yoga-morgan-2-2-2/2029-11-17/
LOCATION:Goleta Valley Athletic Club\, 170 Los Carneros Way\, Goleta\, CA\, 93117\, United States
CATEGORIES:Yoga
END:VEVENT
BEGIN:VEVENT
DTSTART;TZID=America/Los_Angeles:20291119T173000
DTEND;TZID=America/Los_Angeles:20291119T182500
DTSTAMP:20260423T235052
CREATED:20251118T234330Z
LAST-MODIFIED:20251118T234332Z
UID:10002987-1889803800-1889807100@gvac.com
SUMMARY:Power Vinyasa Yoga\, Ian
DESCRIPTION:
URL:https://gvac.com/event/power-vinyasa-yoga-sepideh-2-2/2029-11-19/
LOCATION:Goleta Valley Athletic Club\, 170 Los Carneros Way\, Goleta\, CA\, 93117\, United States
CATEGORIES:Yoga
END:VEVENT
BEGIN:VEVENT
DTSTART;TZID=America/Los_Angeles:20291120T173000
DTEND;TZID=America/Los_Angeles:20291120T182500
DTSTAMP:20260423T235052
CREATED:20250401T230915Z
LAST-MODIFIED:20250401T230915Z
UID:10005598-1889890200-1889893500@gvac.com
SUMMARY:Power Flow Yoga\, Sarah M.
DESCRIPTION:
URL:https://gvac.com/event/power-flow-yoga-sarah-m/2029-11-20/
LOCATION:Goleta Valley Athletic Club\, 170 Los Carneros Way\, Goleta\, CA\, 93117\, United States
CATEGORIES:Yoga
END:VEVENT
BEGIN:VEVENT
DTSTART;TZID=America/Los_Angeles:20291121T173000
DTEND;TZID=America/Los_Angeles:20291121T182500
DTSTAMP:20260423T235052
CREATED:20251118T234232Z
LAST-MODIFIED:20251118T234235Z
UID:10005859-1889976600-1889979900@gvac.com
SUMMARY:Yoga Sculpt\, Krista
DESCRIPTION:
URL:https://gvac.com/event/vinyasa-flow-yoga-nadia-2/2029-11-21/
LOCATION:Goleta Valley Athletic Club\, 170 Los Carneros Way\, Goleta\, CA\, 93117\, United States
CATEGORIES:Yoga
END:VEVENT
BEGIN:VEVENT
DTSTART;TZID=America/Los_Angeles:20291122T173000
DTEND;TZID=America/Los_Angeles:20291122T183000
DTSTAMP:20260423T235052
CREATED:20251222T222624Z
LAST-MODIFIED:20251231T234714Z
UID:10011559-1890063000-1890066600@gvac.com
SUMMARY:Vinyasa Yoga\, Sarah E.
DESCRIPTION:
URL:https://gvac.com/event/vinyasa-yoga-morgan-3-2-2/2029-11-22/
LOCATION:Goleta Valley Athletic Club\, 170 Los Carneros Way\, Goleta\, CA\, 93117\, United States
CATEGORIES:Yoga
END:VEVENT
BEGIN:VEVENT
DTSTART;TZID=America/Los_Angeles:20291124T091500
DTEND;TZID=America/Los_Angeles:20291124T101000
DTSTAMP:20260423T235052
CREATED:20250929T183721Z
LAST-MODIFIED:20250929T183724Z
UID:10009196-1890206100-1890209400@gvac.com
SUMMARY:Vinyasa Yoga\, Ian
DESCRIPTION:
URL:https://gvac.com/event/vinyasa-yoga-morgan-2-2-2/2029-11-24/
LOCATION:Goleta Valley Athletic Club\, 170 Los Carneros Way\, Goleta\, CA\, 93117\, United States
CATEGORIES:Yoga
END:VEVENT
BEGIN:VEVENT
DTSTART;TZID=America/Los_Angeles:20291126T173000
DTEND;TZID=America/Los_Angeles:20291126T182500
DTSTAMP:20260423T235052
CREATED:20251118T234330Z
LAST-MODIFIED:20251118T234332Z
UID:10002988-1890408600-1890411900@gvac.com
SUMMARY:Power Vinyasa Yoga\, Ian
DESCRIPTION:
URL:https://gvac.com/event/power-vinyasa-yoga-sepideh-2-2/2029-11-26/
LOCATION:Goleta Valley Athletic Club\, 170 Los Carneros Way\, Goleta\, CA\, 93117\, United States
CATEGORIES:Yoga
END:VEVENT
BEGIN:VEVENT
DTSTART;TZID=America/Los_Angeles:20291127T173000
DTEND;TZID=America/Los_Angeles:20291127T182500
DTSTAMP:20260423T235052
CREATED:20250401T230915Z
LAST-MODIFIED:20250401T230915Z
UID:10005599-1890495000-1890498300@gvac.com
SUMMARY:Power Flow Yoga\, Sarah M.
DESCRIPTION:
URL:https://gvac.com/event/power-flow-yoga-sarah-m/2029-11-27/
LOCATION:Goleta Valley Athletic Club\, 170 Los Carneros Way\, Goleta\, CA\, 93117\, United States
CATEGORIES:Yoga
END:VEVENT
BEGIN:VEVENT
DTSTART;TZID=America/Los_Angeles:20291128T173000
DTEND;TZID=America/Los_Angeles:20291128T182500
DTSTAMP:20260423T235052
CREATED:20251118T234232Z
LAST-MODIFIED:20251118T234235Z
UID:10005860-1890581400-1890584700@gvac.com
SUMMARY:Yoga Sculpt\, Krista
DESCRIPTION:
URL:https://gvac.com/event/vinyasa-flow-yoga-nadia-2/2029-11-28/
LOCATION:Goleta Valley Athletic Club\, 170 Los Carneros Way\, Goleta\, CA\, 93117\, United States
CATEGORIES:Yoga
END:VEVENT
BEGIN:VEVENT
DTSTART;TZID=America/Los_Angeles:20291129T173000
DTEND;TZID=America/Los_Angeles:20291129T183000
DTSTAMP:20260423T235052
CREATED:20251222T222624Z
LAST-MODIFIED:20251231T234714Z
UID:10011560-1890667800-1890671400@gvac.com
SUMMARY:Vinyasa Yoga\, Sarah E.
DESCRIPTION:
URL:https://gvac.com/event/vinyasa-yoga-morgan-3-2-2/2029-11-29/
LOCATION:Goleta Valley Athletic Club\, 170 Los Carneros Way\, Goleta\, CA\, 93117\, United States
CATEGORIES:Yoga
END:VEVENT
END:VCALENDAR