BEGIN:VCALENDAR
VERSION:2.0
PRODID:-//Goleta Valley Athletic Club | Best Gym in Santa Barbara - ECPv6.15.20//NONSGML v1.0//EN
CALSCALE:GREGORIAN
METHOD:PUBLISH
X-WR-CALNAME:Goleta Valley Athletic Club | Best Gym in Santa Barbara
X-ORIGINAL-URL:https://gvac.com
X-WR-CALDESC:Events for Goleta Valley Athletic Club | Best Gym in Santa Barbara
REFRESH-INTERVAL;VALUE=DURATION:PT1H
X-Robots-Tag:noindex
X-PUBLISHED-TTL:PT1H
BEGIN:VTIMEZONE
TZID:America/Los_Angeles
BEGIN:DAYLIGHT
TZOFFSETFROM:-0800
TZOFFSETTO:-0700
TZNAME:PDT
DTSTART:20290311T100000
END:DAYLIGHT
BEGIN:STANDARD
TZOFFSETFROM:-0700
TZOFFSETTO:-0800
TZNAME:PST
DTSTART:20291104T090000
END:STANDARD
BEGIN:DAYLIGHT
TZOFFSETFROM:-0800
TZOFFSETTO:-0700
TZNAME:PDT
DTSTART:20300310T100000
END:DAYLIGHT
BEGIN:STANDARD
TZOFFSETFROM:-0700
TZOFFSETTO:-0800
TZNAME:PST
DTSTART:20301103T090000
END:STANDARD
BEGIN:DAYLIGHT
TZOFFSETFROM:-0800
TZOFFSETTO:-0700
TZNAME:PDT
DTSTART:20310309T100000
END:DAYLIGHT
BEGIN:STANDARD
TZOFFSETFROM:-0700
TZOFFSETTO:-0800
TZNAME:PST
DTSTART:20311102T090000
END:STANDARD
END:VTIMEZONE
BEGIN:VEVENT
DTSTART;TZID=America/Los_Angeles:20300131T173000
DTEND;TZID=America/Los_Angeles:20300131T183000
DTSTAMP:20260424T032752
CREATED:20251222T222624Z
LAST-MODIFIED:20251231T234714Z
UID:10011569-1896111000-1896114600@gvac.com
SUMMARY:Vinyasa Yoga\, Sarah E.
DESCRIPTION:
URL:https://gvac.com/event/vinyasa-yoga-morgan-3-2-2/2030-01-31/
LOCATION:Goleta Valley Athletic Club\, 170 Los Carneros Way\, Goleta\, CA\, 93117\, United States
CATEGORIES:Yoga
END:VEVENT
BEGIN:VEVENT
DTSTART;TZID=America/Los_Angeles:20300202T091500
DTEND;TZID=America/Los_Angeles:20300202T101000
DTSTAMP:20260424T032752
CREATED:20250929T183721Z
LAST-MODIFIED:20250929T183724Z
UID:10009206-1896254100-1896257400@gvac.com
SUMMARY:Vinyasa Yoga\, Ian
DESCRIPTION:
URL:https://gvac.com/event/vinyasa-yoga-morgan-2-2-2/2030-02-02/
LOCATION:Goleta Valley Athletic Club\, 170 Los Carneros Way\, Goleta\, CA\, 93117\, United States
CATEGORIES:Yoga
END:VEVENT
BEGIN:VEVENT
DTSTART;TZID=America/Los_Angeles:20300204T173000
DTEND;TZID=America/Los_Angeles:20300204T182500
DTSTAMP:20260424T032752
CREATED:20251118T234330Z
LAST-MODIFIED:20251118T234332Z
UID:10002998-1896456600-1896459900@gvac.com
SUMMARY:Power Vinyasa Yoga\, Ian
DESCRIPTION:
URL:https://gvac.com/event/power-vinyasa-yoga-sepideh-2-2/2030-02-04/
LOCATION:Goleta Valley Athletic Club\, 170 Los Carneros Way\, Goleta\, CA\, 93117\, United States
CATEGORIES:Yoga
END:VEVENT
BEGIN:VEVENT
DTSTART;TZID=America/Los_Angeles:20300205T173000
DTEND;TZID=America/Los_Angeles:20300205T182500
DTSTAMP:20260424T032752
CREATED:20250401T230915Z
LAST-MODIFIED:20250401T230915Z
UID:10005609-1896543000-1896546300@gvac.com
SUMMARY:Power Flow Yoga\, Sarah M.
DESCRIPTION:
URL:https://gvac.com/event/power-flow-yoga-sarah-m/2030-02-05/
LOCATION:Goleta Valley Athletic Club\, 170 Los Carneros Way\, Goleta\, CA\, 93117\, United States
CATEGORIES:Yoga
END:VEVENT
BEGIN:VEVENT
DTSTART;TZID=America/Los_Angeles:20300206T173000
DTEND;TZID=America/Los_Angeles:20300206T182500
DTSTAMP:20260424T032752
CREATED:20251118T234232Z
LAST-MODIFIED:20251118T234235Z
UID:10005870-1896629400-1896632700@gvac.com
SUMMARY:Yoga Sculpt\, Krista
DESCRIPTION:
URL:https://gvac.com/event/vinyasa-flow-yoga-nadia-2/2030-02-06/
LOCATION:Goleta Valley Athletic Club\, 170 Los Carneros Way\, Goleta\, CA\, 93117\, United States
CATEGORIES:Yoga
END:VEVENT
BEGIN:VEVENT
DTSTART;TZID=America/Los_Angeles:20300207T173000
DTEND;TZID=America/Los_Angeles:20300207T183000
DTSTAMP:20260424T032752
CREATED:20251222T222624Z
LAST-MODIFIED:20251231T234714Z
UID:10011570-1896715800-1896719400@gvac.com
SUMMARY:Vinyasa Yoga\, Sarah E.
DESCRIPTION:
URL:https://gvac.com/event/vinyasa-yoga-morgan-3-2-2/2030-02-07/
LOCATION:Goleta Valley Athletic Club\, 170 Los Carneros Way\, Goleta\, CA\, 93117\, United States
CATEGORIES:Yoga
END:VEVENT
BEGIN:VEVENT
DTSTART;TZID=America/Los_Angeles:20300209T091500
DTEND;TZID=America/Los_Angeles:20300209T101000
DTSTAMP:20260424T032752
CREATED:20250929T183721Z
LAST-MODIFIED:20250929T183724Z
UID:10009207-1896858900-1896862200@gvac.com
SUMMARY:Vinyasa Yoga\, Ian
DESCRIPTION:
URL:https://gvac.com/event/vinyasa-yoga-morgan-2-2-2/2030-02-09/
LOCATION:Goleta Valley Athletic Club\, 170 Los Carneros Way\, Goleta\, CA\, 93117\, United States
CATEGORIES:Yoga
END:VEVENT
BEGIN:VEVENT
DTSTART;TZID=America/Los_Angeles:20300211T173000
DTEND;TZID=America/Los_Angeles:20300211T182500
DTSTAMP:20260424T032752
CREATED:20251118T234330Z
LAST-MODIFIED:20251118T234332Z
UID:10002999-1897061400-1897064700@gvac.com
SUMMARY:Power Vinyasa Yoga\, Ian
DESCRIPTION:
URL:https://gvac.com/event/power-vinyasa-yoga-sepideh-2-2/2030-02-11/
LOCATION:Goleta Valley Athletic Club\, 170 Los Carneros Way\, Goleta\, CA\, 93117\, United States
CATEGORIES:Yoga
END:VEVENT
BEGIN:VEVENT
DTSTART;TZID=America/Los_Angeles:20300212T173000
DTEND;TZID=America/Los_Angeles:20300212T182500
DTSTAMP:20260424T032752
CREATED:20250401T230915Z
LAST-MODIFIED:20250401T230915Z
UID:10005610-1897147800-1897151100@gvac.com
SUMMARY:Power Flow Yoga\, Sarah M.
DESCRIPTION:
URL:https://gvac.com/event/power-flow-yoga-sarah-m/2030-02-12/
LOCATION:Goleta Valley Athletic Club\, 170 Los Carneros Way\, Goleta\, CA\, 93117\, United States
CATEGORIES:Yoga
END:VEVENT
BEGIN:VEVENT
DTSTART;TZID=America/Los_Angeles:20300213T173000
DTEND;TZID=America/Los_Angeles:20300213T182500
DTSTAMP:20260424T032752
CREATED:20251118T234232Z
LAST-MODIFIED:20251118T234235Z
UID:10005871-1897234200-1897237500@gvac.com
SUMMARY:Yoga Sculpt\, Krista
DESCRIPTION:
URL:https://gvac.com/event/vinyasa-flow-yoga-nadia-2/2030-02-13/
LOCATION:Goleta Valley Athletic Club\, 170 Los Carneros Way\, Goleta\, CA\, 93117\, United States
CATEGORIES:Yoga
END:VEVENT
BEGIN:VEVENT
DTSTART;TZID=America/Los_Angeles:20300214T173000
DTEND;TZID=America/Los_Angeles:20300214T183000
DTSTAMP:20260424T032752
CREATED:20251222T222624Z
LAST-MODIFIED:20251231T234714Z
UID:10011571-1897320600-1897324200@gvac.com
SUMMARY:Vinyasa Yoga\, Sarah E.
DESCRIPTION:
URL:https://gvac.com/event/vinyasa-yoga-morgan-3-2-2/2030-02-14/
LOCATION:Goleta Valley Athletic Club\, 170 Los Carneros Way\, Goleta\, CA\, 93117\, United States
CATEGORIES:Yoga
END:VEVENT
BEGIN:VEVENT
DTSTART;TZID=America/Los_Angeles:20300216T091500
DTEND;TZID=America/Los_Angeles:20300216T101000
DTSTAMP:20260424T032752
CREATED:20250929T183721Z
LAST-MODIFIED:20250929T183724Z
UID:10009208-1897463700-1897467000@gvac.com
SUMMARY:Vinyasa Yoga\, Ian
DESCRIPTION:
URL:https://gvac.com/event/vinyasa-yoga-morgan-2-2-2/2030-02-16/
LOCATION:Goleta Valley Athletic Club\, 170 Los Carneros Way\, Goleta\, CA\, 93117\, United States
CATEGORIES:Yoga
END:VEVENT
BEGIN:VEVENT
DTSTART;TZID=America/Los_Angeles:20300218T173000
DTEND;TZID=America/Los_Angeles:20300218T182500
DTSTAMP:20260424T032752
CREATED:20251118T234330Z
LAST-MODIFIED:20251118T234332Z
UID:10003000-1897666200-1897669500@gvac.com
SUMMARY:Power Vinyasa Yoga\, Ian
DESCRIPTION:
URL:https://gvac.com/event/power-vinyasa-yoga-sepideh-2-2/2030-02-18/
LOCATION:Goleta Valley Athletic Club\, 170 Los Carneros Way\, Goleta\, CA\, 93117\, United States
CATEGORIES:Yoga
END:VEVENT
BEGIN:VEVENT
DTSTART;TZID=America/Los_Angeles:20300219T173000
DTEND;TZID=America/Los_Angeles:20300219T182500
DTSTAMP:20260424T032752
CREATED:20250401T230915Z
LAST-MODIFIED:20250401T230915Z
UID:10005611-1897752600-1897755900@gvac.com
SUMMARY:Power Flow Yoga\, Sarah M.
DESCRIPTION:
URL:https://gvac.com/event/power-flow-yoga-sarah-m/2030-02-19/
LOCATION:Goleta Valley Athletic Club\, 170 Los Carneros Way\, Goleta\, CA\, 93117\, United States
CATEGORIES:Yoga
END:VEVENT
BEGIN:VEVENT
DTSTART;TZID=America/Los_Angeles:20300220T173000
DTEND;TZID=America/Los_Angeles:20300220T182500
DTSTAMP:20260424T032752
CREATED:20251118T234232Z
LAST-MODIFIED:20251118T234235Z
UID:10005872-1897839000-1897842300@gvac.com
SUMMARY:Yoga Sculpt\, Krista
DESCRIPTION:
URL:https://gvac.com/event/vinyasa-flow-yoga-nadia-2/2030-02-20/
LOCATION:Goleta Valley Athletic Club\, 170 Los Carneros Way\, Goleta\, CA\, 93117\, United States
CATEGORIES:Yoga
END:VEVENT
BEGIN:VEVENT
DTSTART;TZID=America/Los_Angeles:20300221T173000
DTEND;TZID=America/Los_Angeles:20300221T183000
DTSTAMP:20260424T032752
CREATED:20251222T222624Z
LAST-MODIFIED:20251231T234714Z
UID:10011572-1897925400-1897929000@gvac.com
SUMMARY:Vinyasa Yoga\, Sarah E.
DESCRIPTION:
URL:https://gvac.com/event/vinyasa-yoga-morgan-3-2-2/2030-02-21/
LOCATION:Goleta Valley Athletic Club\, 170 Los Carneros Way\, Goleta\, CA\, 93117\, United States
CATEGORIES:Yoga
END:VEVENT
BEGIN:VEVENT
DTSTART;TZID=America/Los_Angeles:20300223T091500
DTEND;TZID=America/Los_Angeles:20300223T101000
DTSTAMP:20260424T032752
CREATED:20250929T183721Z
LAST-MODIFIED:20250929T183724Z
UID:10009209-1898068500-1898071800@gvac.com
SUMMARY:Vinyasa Yoga\, Ian
DESCRIPTION:
URL:https://gvac.com/event/vinyasa-yoga-morgan-2-2-2/2030-02-23/
LOCATION:Goleta Valley Athletic Club\, 170 Los Carneros Way\, Goleta\, CA\, 93117\, United States
CATEGORIES:Yoga
END:VEVENT
BEGIN:VEVENT
DTSTART;TZID=America/Los_Angeles:20300225T173000
DTEND;TZID=America/Los_Angeles:20300225T182500
DTSTAMP:20260424T032752
CREATED:20251118T234330Z
LAST-MODIFIED:20251118T234332Z
UID:10003001-1898271000-1898274300@gvac.com
SUMMARY:Power Vinyasa Yoga\, Ian
DESCRIPTION:
URL:https://gvac.com/event/power-vinyasa-yoga-sepideh-2-2/2030-02-25/
LOCATION:Goleta Valley Athletic Club\, 170 Los Carneros Way\, Goleta\, CA\, 93117\, United States
CATEGORIES:Yoga
END:VEVENT
BEGIN:VEVENT
DTSTART;TZID=America/Los_Angeles:20300226T173000
DTEND;TZID=America/Los_Angeles:20300226T182500
DTSTAMP:20260424T032752
CREATED:20250401T230915Z
LAST-MODIFIED:20250401T230915Z
UID:10005612-1898357400-1898360700@gvac.com
SUMMARY:Power Flow Yoga\, Sarah M.
DESCRIPTION:
URL:https://gvac.com/event/power-flow-yoga-sarah-m/2030-02-26/
LOCATION:Goleta Valley Athletic Club\, 170 Los Carneros Way\, Goleta\, CA\, 93117\, United States
CATEGORIES:Yoga
END:VEVENT
BEGIN:VEVENT
DTSTART;TZID=America/Los_Angeles:20300227T173000
DTEND;TZID=America/Los_Angeles:20300227T182500
DTSTAMP:20260424T032752
CREATED:20251118T234232Z
LAST-MODIFIED:20251118T234235Z
UID:10005873-1898443800-1898447100@gvac.com
SUMMARY:Yoga Sculpt\, Krista
DESCRIPTION:
URL:https://gvac.com/event/vinyasa-flow-yoga-nadia-2/2030-02-27/
LOCATION:Goleta Valley Athletic Club\, 170 Los Carneros Way\, Goleta\, CA\, 93117\, United States
CATEGORIES:Yoga
END:VEVENT
END:VCALENDAR