BEGIN:VCALENDAR
VERSION:2.0
PRODID:-//Goleta Valley Athletic Club | Best Gym in Santa Barbara - ECPv6.15.20//NONSGML v1.0//EN
CALSCALE:GREGORIAN
METHOD:PUBLISH
X-WR-CALNAME:Goleta Valley Athletic Club | Best Gym in Santa Barbara
X-ORIGINAL-URL:https://gvac.com
X-WR-CALDESC:Events for Goleta Valley Athletic Club | Best Gym in Santa Barbara
REFRESH-INTERVAL;VALUE=DURATION:PT1H
X-Robots-Tag:noindex
X-PUBLISHED-TTL:PT1H
BEGIN:VTIMEZONE
TZID:America/Los_Angeles
BEGIN:DAYLIGHT
TZOFFSETFROM:-0800
TZOFFSETTO:-0700
TZNAME:PDT
DTSTART:20290311T100000
END:DAYLIGHT
BEGIN:STANDARD
TZOFFSETFROM:-0700
TZOFFSETTO:-0800
TZNAME:PST
DTSTART:20291104T090000
END:STANDARD
BEGIN:DAYLIGHT
TZOFFSETFROM:-0800
TZOFFSETTO:-0700
TZNAME:PDT
DTSTART:20300310T100000
END:DAYLIGHT
BEGIN:STANDARD
TZOFFSETFROM:-0700
TZOFFSETTO:-0800
TZNAME:PST
DTSTART:20301103T090000
END:STANDARD
BEGIN:DAYLIGHT
TZOFFSETFROM:-0800
TZOFFSETTO:-0700
TZNAME:PDT
DTSTART:20310309T100000
END:DAYLIGHT
BEGIN:STANDARD
TZOFFSETFROM:-0700
TZOFFSETTO:-0800
TZNAME:PST
DTSTART:20311102T090000
END:STANDARD
END:VTIMEZONE
BEGIN:VEVENT
DTSTART;TZID=America/Los_Angeles:20300430T173000
DTEND;TZID=America/Los_Angeles:20300430T182500
DTSTAMP:20260424T070729
CREATED:20250401T230915Z
LAST-MODIFIED:20250401T230915Z
UID:10008523-1903800600-1903803900@gvac.com
SUMMARY:Power Flow Yoga\, Sarah M.
DESCRIPTION:
URL:https://gvac.com/event/power-flow-yoga-sarah-m/2030-04-30/
LOCATION:Goleta Valley Athletic Club\, 170 Los Carneros Way\, Goleta\, CA\, 93117\, United States
CATEGORIES:Yoga
END:VEVENT
BEGIN:VEVENT
DTSTART;TZID=America/Los_Angeles:20300501T173000
DTEND;TZID=America/Los_Angeles:20300501T182500
DTSTAMP:20260424T070729
CREATED:20251118T234232Z
LAST-MODIFIED:20251118T234235Z
UID:10008547-1903887000-1903890300@gvac.com
SUMMARY:Yoga Sculpt\, Krista
DESCRIPTION:
URL:https://gvac.com/event/vinyasa-flow-yoga-nadia-2/2030-05-01/
LOCATION:Goleta Valley Athletic Club\, 170 Los Carneros Way\, Goleta\, CA\, 93117\, United States
CATEGORIES:Yoga
END:VEVENT
BEGIN:VEVENT
DTSTART;TZID=America/Los_Angeles:20300502T173000
DTEND;TZID=America/Los_Angeles:20300502T183000
DTSTAMP:20260424T070729
CREATED:20251222T222624Z
LAST-MODIFIED:20251231T234714Z
UID:10011582-1903973400-1903977000@gvac.com
SUMMARY:Vinyasa Yoga\, Sarah E.
DESCRIPTION:
URL:https://gvac.com/event/vinyasa-yoga-morgan-3-2-2/2030-05-02/
LOCATION:Goleta Valley Athletic Club\, 170 Los Carneros Way\, Goleta\, CA\, 93117\, United States
CATEGORIES:Yoga
END:VEVENT
BEGIN:VEVENT
DTSTART;TZID=America/Los_Angeles:20300504T091500
DTEND;TZID=America/Los_Angeles:20300504T101000
DTSTAMP:20260424T070729
CREATED:20250929T183721Z
LAST-MODIFIED:20250929T183724Z
UID:10009219-1904116500-1904119800@gvac.com
SUMMARY:Vinyasa Yoga\, Ian
DESCRIPTION:
URL:https://gvac.com/event/vinyasa-yoga-morgan-2-2-2/2030-05-04/
LOCATION:Goleta Valley Athletic Club\, 170 Los Carneros Way\, Goleta\, CA\, 93117\, United States
CATEGORIES:Yoga
END:VEVENT
BEGIN:VEVENT
DTSTART;TZID=America/Los_Angeles:20300506T173000
DTEND;TZID=America/Los_Angeles:20300506T182500
DTSTAMP:20260424T070729
CREATED:20251118T234330Z
LAST-MODIFIED:20251118T234332Z
UID:10008612-1904319000-1904322300@gvac.com
SUMMARY:Power Vinyasa Yoga\, Ian
DESCRIPTION:
URL:https://gvac.com/event/power-vinyasa-yoga-sepideh-2-2/2030-05-06/
LOCATION:Goleta Valley Athletic Club\, 170 Los Carneros Way\, Goleta\, CA\, 93117\, United States
CATEGORIES:Yoga
END:VEVENT
BEGIN:VEVENT
DTSTART;TZID=America/Los_Angeles:20300507T173000
DTEND;TZID=America/Los_Angeles:20300507T182500
DTSTAMP:20260424T070729
CREATED:20250401T230915Z
LAST-MODIFIED:20250401T230915Z
UID:10008623-1904405400-1904408700@gvac.com
SUMMARY:Power Flow Yoga\, Sarah M.
DESCRIPTION:
URL:https://gvac.com/event/power-flow-yoga-sarah-m/2030-05-07/
LOCATION:Goleta Valley Athletic Club\, 170 Los Carneros Way\, Goleta\, CA\, 93117\, United States
CATEGORIES:Yoga
END:VEVENT
BEGIN:VEVENT
DTSTART;TZID=America/Los_Angeles:20300508T173000
DTEND;TZID=America/Los_Angeles:20300508T182500
DTSTAMP:20260424T070729
CREATED:20251118T234232Z
LAST-MODIFIED:20251118T234235Z
UID:10008625-1904491800-1904495100@gvac.com
SUMMARY:Yoga Sculpt\, Krista
DESCRIPTION:
URL:https://gvac.com/event/vinyasa-flow-yoga-nadia-2/2030-05-08/
LOCATION:Goleta Valley Athletic Club\, 170 Los Carneros Way\, Goleta\, CA\, 93117\, United States
CATEGORIES:Yoga
END:VEVENT
BEGIN:VEVENT
DTSTART;TZID=America/Los_Angeles:20300509T173000
DTEND;TZID=America/Los_Angeles:20300509T183000
DTSTAMP:20260424T070729
CREATED:20251222T222624Z
LAST-MODIFIED:20251231T234714Z
UID:10011583-1904578200-1904581800@gvac.com
SUMMARY:Vinyasa Yoga\, Sarah E.
DESCRIPTION:
URL:https://gvac.com/event/vinyasa-yoga-morgan-3-2-2/2030-05-09/
LOCATION:Goleta Valley Athletic Club\, 170 Los Carneros Way\, Goleta\, CA\, 93117\, United States
CATEGORIES:Yoga
END:VEVENT
BEGIN:VEVENT
DTSTART;TZID=America/Los_Angeles:20300511T091500
DTEND;TZID=America/Los_Angeles:20300511T101000
DTSTAMP:20260424T070729
CREATED:20250929T183721Z
LAST-MODIFIED:20250929T183724Z
UID:10009220-1904721300-1904724600@gvac.com
SUMMARY:Vinyasa Yoga\, Ian
DESCRIPTION:
URL:https://gvac.com/event/vinyasa-yoga-morgan-2-2-2/2030-05-11/
LOCATION:Goleta Valley Athletic Club\, 170 Los Carneros Way\, Goleta\, CA\, 93117\, United States
CATEGORIES:Yoga
END:VEVENT
BEGIN:VEVENT
DTSTART;TZID=America/Los_Angeles:20300513T173000
DTEND;TZID=America/Los_Angeles:20300513T182500
DTSTAMP:20260424T070729
CREATED:20251118T234330Z
LAST-MODIFIED:20251118T234332Z
UID:10008636-1904923800-1904927100@gvac.com
SUMMARY:Power Vinyasa Yoga\, Ian
DESCRIPTION:
URL:https://gvac.com/event/power-vinyasa-yoga-sepideh-2-2/2030-05-13/
LOCATION:Goleta Valley Athletic Club\, 170 Los Carneros Way\, Goleta\, CA\, 93117\, United States
CATEGORIES:Yoga
END:VEVENT
BEGIN:VEVENT
DTSTART;TZID=America/Los_Angeles:20300514T173000
DTEND;TZID=America/Los_Angeles:20300514T182500
DTSTAMP:20260424T070729
CREATED:20250401T230915Z
LAST-MODIFIED:20250401T230915Z
UID:10008647-1905010200-1905013500@gvac.com
SUMMARY:Power Flow Yoga\, Sarah M.
DESCRIPTION:
URL:https://gvac.com/event/power-flow-yoga-sarah-m/2030-05-14/
LOCATION:Goleta Valley Athletic Club\, 170 Los Carneros Way\, Goleta\, CA\, 93117\, United States
CATEGORIES:Yoga
END:VEVENT
BEGIN:VEVENT
DTSTART;TZID=America/Los_Angeles:20300515T173000
DTEND;TZID=America/Los_Angeles:20300515T182500
DTSTAMP:20260424T070729
CREATED:20251118T234232Z
LAST-MODIFIED:20251118T234235Z
UID:10008649-1905096600-1905099900@gvac.com
SUMMARY:Yoga Sculpt\, Krista
DESCRIPTION:
URL:https://gvac.com/event/vinyasa-flow-yoga-nadia-2/2030-05-15/
LOCATION:Goleta Valley Athletic Club\, 170 Los Carneros Way\, Goleta\, CA\, 93117\, United States
CATEGORIES:Yoga
END:VEVENT
BEGIN:VEVENT
DTSTART;TZID=America/Los_Angeles:20300516T173000
DTEND;TZID=America/Los_Angeles:20300516T183000
DTSTAMP:20260424T070729
CREATED:20251222T222624Z
LAST-MODIFIED:20251231T234714Z
UID:10011584-1905183000-1905186600@gvac.com
SUMMARY:Vinyasa Yoga\, Sarah E.
DESCRIPTION:
URL:https://gvac.com/event/vinyasa-yoga-morgan-3-2-2/2030-05-16/
LOCATION:Goleta Valley Athletic Club\, 170 Los Carneros Way\, Goleta\, CA\, 93117\, United States
CATEGORIES:Yoga
END:VEVENT
BEGIN:VEVENT
DTSTART;TZID=America/Los_Angeles:20300518T091500
DTEND;TZID=America/Los_Angeles:20300518T101000
DTSTAMP:20260424T070729
CREATED:20250929T183721Z
LAST-MODIFIED:20250929T183724Z
UID:10009221-1905326100-1905329400@gvac.com
SUMMARY:Vinyasa Yoga\, Ian
DESCRIPTION:
URL:https://gvac.com/event/vinyasa-yoga-morgan-2-2-2/2030-05-18/
LOCATION:Goleta Valley Athletic Club\, 170 Los Carneros Way\, Goleta\, CA\, 93117\, United States
CATEGORIES:Yoga
END:VEVENT
BEGIN:VEVENT
DTSTART;TZID=America/Los_Angeles:20300520T173000
DTEND;TZID=America/Los_Angeles:20300520T182500
DTSTAMP:20260424T070729
CREATED:20251118T234330Z
LAST-MODIFIED:20251118T234332Z
UID:10008660-1905528600-1905531900@gvac.com
SUMMARY:Power Vinyasa Yoga\, Ian
DESCRIPTION:
URL:https://gvac.com/event/power-vinyasa-yoga-sepideh-2-2/2030-05-20/
LOCATION:Goleta Valley Athletic Club\, 170 Los Carneros Way\, Goleta\, CA\, 93117\, United States
CATEGORIES:Yoga
END:VEVENT
BEGIN:VEVENT
DTSTART;TZID=America/Los_Angeles:20300521T173000
DTEND;TZID=America/Los_Angeles:20300521T182500
DTSTAMP:20260424T070729
CREATED:20250401T230915Z
LAST-MODIFIED:20250401T230915Z
UID:10008667-1905615000-1905618300@gvac.com
SUMMARY:Power Flow Yoga\, Sarah M.
DESCRIPTION:
URL:https://gvac.com/event/power-flow-yoga-sarah-m/2030-05-21/
LOCATION:Goleta Valley Athletic Club\, 170 Los Carneros Way\, Goleta\, CA\, 93117\, United States
CATEGORIES:Yoga
END:VEVENT
BEGIN:VEVENT
DTSTART;TZID=America/Los_Angeles:20300522T173000
DTEND;TZID=America/Los_Angeles:20300522T182500
DTSTAMP:20260424T070729
CREATED:20251118T234232Z
LAST-MODIFIED:20251118T234235Z
UID:10008669-1905701400-1905704700@gvac.com
SUMMARY:Yoga Sculpt\, Krista
DESCRIPTION:
URL:https://gvac.com/event/vinyasa-flow-yoga-nadia-2/2030-05-22/
LOCATION:Goleta Valley Athletic Club\, 170 Los Carneros Way\, Goleta\, CA\, 93117\, United States
CATEGORIES:Yoga
END:VEVENT
BEGIN:VEVENT
DTSTART;TZID=America/Los_Angeles:20300523T173000
DTEND;TZID=America/Los_Angeles:20300523T183000
DTSTAMP:20260424T070729
CREATED:20251222T222624Z
LAST-MODIFIED:20251231T234714Z
UID:10011585-1905787800-1905791400@gvac.com
SUMMARY:Vinyasa Yoga\, Sarah E.
DESCRIPTION:
URL:https://gvac.com/event/vinyasa-yoga-morgan-3-2-2/2030-05-23/
LOCATION:Goleta Valley Athletic Club\, 170 Los Carneros Way\, Goleta\, CA\, 93117\, United States
CATEGORIES:Yoga
END:VEVENT
BEGIN:VEVENT
DTSTART;TZID=America/Los_Angeles:20300525T091500
DTEND;TZID=America/Los_Angeles:20300525T101000
DTSTAMP:20260424T070729
CREATED:20250929T183721Z
LAST-MODIFIED:20250929T183724Z
UID:10009222-1905930900-1905934200@gvac.com
SUMMARY:Vinyasa Yoga\, Ian
DESCRIPTION:
URL:https://gvac.com/event/vinyasa-yoga-morgan-2-2-2/2030-05-25/
LOCATION:Goleta Valley Athletic Club\, 170 Los Carneros Way\, Goleta\, CA\, 93117\, United States
CATEGORIES:Yoga
END:VEVENT
BEGIN:VEVENT
DTSTART;TZID=America/Los_Angeles:20300527T173000
DTEND;TZID=America/Los_Angeles:20300527T182500
DTSTAMP:20260424T070729
CREATED:20251118T234330Z
LAST-MODIFIED:20251118T234332Z
UID:10008689-1906133400-1906136700@gvac.com
SUMMARY:Power Vinyasa Yoga\, Ian
DESCRIPTION:
URL:https://gvac.com/event/power-vinyasa-yoga-sepideh-2-2/2030-05-27/
LOCATION:Goleta Valley Athletic Club\, 170 Los Carneros Way\, Goleta\, CA\, 93117\, United States
CATEGORIES:Yoga
END:VEVENT
BEGIN:VEVENT
DTSTART;TZID=America/Los_Angeles:20300528T173000
DTEND;TZID=America/Los_Angeles:20300528T182500
DTSTAMP:20260424T070729
CREATED:20250401T230915Z
LAST-MODIFIED:20250401T230915Z
UID:10008705-1906219800-1906223100@gvac.com
SUMMARY:Power Flow Yoga\, Sarah M.
DESCRIPTION:
URL:https://gvac.com/event/power-flow-yoga-sarah-m/2030-05-28/
LOCATION:Goleta Valley Athletic Club\, 170 Los Carneros Way\, Goleta\, CA\, 93117\, United States
CATEGORIES:Yoga
END:VEVENT
BEGIN:VEVENT
DTSTART;TZID=America/Los_Angeles:20300529T173000
DTEND;TZID=America/Los_Angeles:20300529T182500
DTSTAMP:20260424T070729
CREATED:20251118T234232Z
LAST-MODIFIED:20251118T234235Z
UID:10008707-1906306200-1906309500@gvac.com
SUMMARY:Yoga Sculpt\, Krista
DESCRIPTION:
URL:https://gvac.com/event/vinyasa-flow-yoga-nadia-2/2030-05-29/
LOCATION:Goleta Valley Athletic Club\, 170 Los Carneros Way\, Goleta\, CA\, 93117\, United States
CATEGORIES:Yoga
END:VEVENT
BEGIN:VEVENT
DTSTART;TZID=America/Los_Angeles:20300530T173000
DTEND;TZID=America/Los_Angeles:20300530T183000
DTSTAMP:20260424T070729
CREATED:20251222T222624Z
LAST-MODIFIED:20251231T234714Z
UID:10011586-1906392600-1906396200@gvac.com
SUMMARY:Vinyasa Yoga\, Sarah E.
DESCRIPTION:
URL:https://gvac.com/event/vinyasa-yoga-morgan-3-2-2/2030-05-30/
LOCATION:Goleta Valley Athletic Club\, 170 Los Carneros Way\, Goleta\, CA\, 93117\, United States
CATEGORIES:Yoga
END:VEVENT
END:VCALENDAR