BEGIN:VCALENDAR
VERSION:2.0
PRODID:-//Goleta Valley Athletic Club | Best Gym in Santa Barbara - ECPv6.15.20//NONSGML v1.0//EN
CALSCALE:GREGORIAN
METHOD:PUBLISH
X-WR-CALNAME:Goleta Valley Athletic Club | Best Gym in Santa Barbara
X-ORIGINAL-URL:https://gvac.com
X-WR-CALDESC:Events for Goleta Valley Athletic Club | Best Gym in Santa Barbara
REFRESH-INTERVAL;VALUE=DURATION:PT1H
X-Robots-Tag:noindex
X-PUBLISHED-TTL:PT1H
BEGIN:VTIMEZONE
TZID:America/Los_Angeles
BEGIN:DAYLIGHT
TZOFFSETFROM:-0800
TZOFFSETTO:-0700
TZNAME:PDT
DTSTART:20290311T100000
END:DAYLIGHT
BEGIN:STANDARD
TZOFFSETFROM:-0700
TZOFFSETTO:-0800
TZNAME:PST
DTSTART:20291104T090000
END:STANDARD
BEGIN:DAYLIGHT
TZOFFSETFROM:-0800
TZOFFSETTO:-0700
TZNAME:PDT
DTSTART:20300310T100000
END:DAYLIGHT
BEGIN:STANDARD
TZOFFSETFROM:-0700
TZOFFSETTO:-0800
TZNAME:PST
DTSTART:20301103T090000
END:STANDARD
BEGIN:DAYLIGHT
TZOFFSETFROM:-0800
TZOFFSETTO:-0700
TZNAME:PDT
DTSTART:20310309T100000
END:DAYLIGHT
BEGIN:STANDARD
TZOFFSETFROM:-0700
TZOFFSETTO:-0800
TZNAME:PST
DTSTART:20311102T090000
END:STANDARD
END:VTIMEZONE
BEGIN:VEVENT
DTSTART;TZID=America/Los_Angeles:20300701T173000
DTEND;TZID=America/Los_Angeles:20300701T182500
DTSTAMP:20260424T094506
CREATED:20251118T234330Z
LAST-MODIFIED:20251118T234332Z
UID:10008884-1909157400-1909160700@gvac.com
SUMMARY:Power Vinyasa Yoga\, Ian
DESCRIPTION:
URL:https://gvac.com/event/power-vinyasa-yoga-sepideh-2-2/2030-07-01/
LOCATION:Goleta Valley Athletic Club\, 170 Los Carneros Way\, Goleta\, CA\, 93117\, United States
CATEGORIES:Yoga
END:VEVENT
BEGIN:VEVENT
DTSTART;TZID=America/Los_Angeles:20300702T173000
DTEND;TZID=America/Los_Angeles:20300702T182500
DTSTAMP:20260424T094506
CREATED:20250401T230915Z
LAST-MODIFIED:20250401T230915Z
UID:10008841-1909243800-1909247100@gvac.com
SUMMARY:Power Flow Yoga\, Sarah M.
DESCRIPTION:
URL:https://gvac.com/event/power-flow-yoga-sarah-m/2030-07-02/
LOCATION:Goleta Valley Athletic Club\, 170 Los Carneros Way\, Goleta\, CA\, 93117\, United States
CATEGORIES:Yoga
END:VEVENT
BEGIN:VEVENT
DTSTART;TZID=America/Los_Angeles:20300703T173000
DTEND;TZID=America/Los_Angeles:20300703T182500
DTSTAMP:20260424T094506
CREATED:20251118T234232Z
LAST-MODIFIED:20251118T234235Z
UID:10008843-1909330200-1909333500@gvac.com
SUMMARY:Yoga Sculpt\, Krista
DESCRIPTION:
URL:https://gvac.com/event/vinyasa-flow-yoga-nadia-2/2030-07-03/
LOCATION:Goleta Valley Athletic Club\, 170 Los Carneros Way\, Goleta\, CA\, 93117\, United States
CATEGORIES:Yoga
END:VEVENT
BEGIN:VEVENT
DTSTART;TZID=America/Los_Angeles:20300704T173000
DTEND;TZID=America/Los_Angeles:20300704T183000
DTSTAMP:20260424T094506
CREATED:20251222T222624Z
LAST-MODIFIED:20251231T234714Z
UID:10011591-1909416600-1909420200@gvac.com
SUMMARY:Vinyasa Yoga\, Sarah E.
DESCRIPTION:
URL:https://gvac.com/event/vinyasa-yoga-morgan-3-2-2/2030-07-04/
LOCATION:Goleta Valley Athletic Club\, 170 Los Carneros Way\, Goleta\, CA\, 93117\, United States
CATEGORIES:Yoga
END:VEVENT
BEGIN:VEVENT
DTSTART;TZID=America/Los_Angeles:20300706T091500
DTEND;TZID=America/Los_Angeles:20300706T101000
DTSTAMP:20260424T094506
CREATED:20250929T183721Z
LAST-MODIFIED:20250929T183724Z
UID:10009228-1909559700-1909563000@gvac.com
SUMMARY:Vinyasa Yoga\, Ian
DESCRIPTION:
URL:https://gvac.com/event/vinyasa-yoga-morgan-2-2-2/2030-07-06/
LOCATION:Goleta Valley Athletic Club\, 170 Los Carneros Way\, Goleta\, CA\, 93117\, United States
CATEGORIES:Yoga
END:VEVENT
BEGIN:VEVENT
DTSTART;TZID=America/Los_Angeles:20300708T173000
DTEND;TZID=America/Los_Angeles:20300708T182500
DTSTAMP:20260424T094506
CREATED:20251118T234330Z
LAST-MODIFIED:20251118T234332Z
UID:10008885-1909762200-1909765500@gvac.com
SUMMARY:Power Vinyasa Yoga\, Ian
DESCRIPTION:
URL:https://gvac.com/event/power-vinyasa-yoga-sepideh-2-2/2030-07-08/
LOCATION:Goleta Valley Athletic Club\, 170 Los Carneros Way\, Goleta\, CA\, 93117\, United States
CATEGORIES:Yoga
END:VEVENT
BEGIN:VEVENT
DTSTART;TZID=America/Los_Angeles:20300709T173000
DTEND;TZID=America/Los_Angeles:20300709T182500
DTSTAMP:20260424T094506
CREATED:20250401T230915Z
LAST-MODIFIED:20250401T230915Z
UID:10008867-1909848600-1909851900@gvac.com
SUMMARY:Power Flow Yoga\, Sarah M.
DESCRIPTION:
URL:https://gvac.com/event/power-flow-yoga-sarah-m/2030-07-09/
LOCATION:Goleta Valley Athletic Club\, 170 Los Carneros Way\, Goleta\, CA\, 93117\, United States
CATEGORIES:Yoga
END:VEVENT
BEGIN:VEVENT
DTSTART;TZID=America/Los_Angeles:20300710T173000
DTEND;TZID=America/Los_Angeles:20300710T182500
DTSTAMP:20260424T094506
CREATED:20251118T234232Z
LAST-MODIFIED:20251118T234235Z
UID:10008869-1909935000-1909938300@gvac.com
SUMMARY:Yoga Sculpt\, Krista
DESCRIPTION:
URL:https://gvac.com/event/vinyasa-flow-yoga-nadia-2/2030-07-10/
LOCATION:Goleta Valley Athletic Club\, 170 Los Carneros Way\, Goleta\, CA\, 93117\, United States
CATEGORIES:Yoga
END:VEVENT
BEGIN:VEVENT
DTSTART;TZID=America/Los_Angeles:20300711T173000
DTEND;TZID=America/Los_Angeles:20300711T183000
DTSTAMP:20260424T094506
CREATED:20251222T222624Z
LAST-MODIFIED:20251231T234714Z
UID:10011592-1910021400-1910025000@gvac.com
SUMMARY:Vinyasa Yoga\, Sarah E.
DESCRIPTION:
URL:https://gvac.com/event/vinyasa-yoga-morgan-3-2-2/2030-07-11/
LOCATION:Goleta Valley Athletic Club\, 170 Los Carneros Way\, Goleta\, CA\, 93117\, United States
CATEGORIES:Yoga
END:VEVENT
BEGIN:VEVENT
DTSTART;TZID=America/Los_Angeles:20300713T091500
DTEND;TZID=America/Los_Angeles:20300713T101000
DTSTAMP:20260424T094506
CREATED:20250929T183721Z
LAST-MODIFIED:20250929T183724Z
UID:10009229-1910164500-1910167800@gvac.com
SUMMARY:Vinyasa Yoga\, Ian
DESCRIPTION:
URL:https://gvac.com/event/vinyasa-yoga-morgan-2-2-2/2030-07-13/
LOCATION:Goleta Valley Athletic Club\, 170 Los Carneros Way\, Goleta\, CA\, 93117\, United States
CATEGORIES:Yoga
END:VEVENT
BEGIN:VEVENT
DTSTART;TZID=America/Los_Angeles:20300715T173000
DTEND;TZID=America/Los_Angeles:20300715T182500
DTSTAMP:20260424T094506
CREATED:20251118T234330Z
LAST-MODIFIED:20251118T234332Z
UID:10008886-1910367000-1910370300@gvac.com
SUMMARY:Power Vinyasa Yoga\, Ian
DESCRIPTION:
URL:https://gvac.com/event/power-vinyasa-yoga-sepideh-2-2/2030-07-15/
LOCATION:Goleta Valley Athletic Club\, 170 Los Carneros Way\, Goleta\, CA\, 93117\, United States
CATEGORIES:Yoga
END:VEVENT
BEGIN:VEVENT
DTSTART;TZID=America/Los_Angeles:20300716T173000
DTEND;TZID=America/Los_Angeles:20300716T182500
DTSTAMP:20260424T094506
CREATED:20250401T230915Z
LAST-MODIFIED:20250401T230915Z
UID:10008899-1910453400-1910456700@gvac.com
SUMMARY:Power Flow Yoga\, Sarah M.
DESCRIPTION:
URL:https://gvac.com/event/power-flow-yoga-sarah-m/2030-07-16/
LOCATION:Goleta Valley Athletic Club\, 170 Los Carneros Way\, Goleta\, CA\, 93117\, United States
CATEGORIES:Yoga
END:VEVENT
BEGIN:VEVENT
DTSTART;TZID=America/Los_Angeles:20300717T173000
DTEND;TZID=America/Los_Angeles:20300717T182500
DTSTAMP:20260424T094506
CREATED:20251118T234232Z
LAST-MODIFIED:20251118T234235Z
UID:10008901-1910539800-1910543100@gvac.com
SUMMARY:Yoga Sculpt\, Krista
DESCRIPTION:
URL:https://gvac.com/event/vinyasa-flow-yoga-nadia-2/2030-07-17/
LOCATION:Goleta Valley Athletic Club\, 170 Los Carneros Way\, Goleta\, CA\, 93117\, United States
CATEGORIES:Yoga
END:VEVENT
BEGIN:VEVENT
DTSTART;TZID=America/Los_Angeles:20300718T173000
DTEND;TZID=America/Los_Angeles:20300718T183000
DTSTAMP:20260424T094506
CREATED:20251222T222624Z
LAST-MODIFIED:20251231T234714Z
UID:10011593-1910626200-1910629800@gvac.com
SUMMARY:Vinyasa Yoga\, Sarah E.
DESCRIPTION:
URL:https://gvac.com/event/vinyasa-yoga-morgan-3-2-2/2030-07-18/
LOCATION:Goleta Valley Athletic Club\, 170 Los Carneros Way\, Goleta\, CA\, 93117\, United States
CATEGORIES:Yoga
END:VEVENT
BEGIN:VEVENT
DTSTART;TZID=America/Los_Angeles:20300720T091500
DTEND;TZID=America/Los_Angeles:20300720T101000
DTSTAMP:20260424T094506
CREATED:20250929T183721Z
LAST-MODIFIED:20250929T183724Z
UID:10009230-1910769300-1910772600@gvac.com
SUMMARY:Vinyasa Yoga\, Ian
DESCRIPTION:
URL:https://gvac.com/event/vinyasa-yoga-morgan-2-2-2/2030-07-20/
LOCATION:Goleta Valley Athletic Club\, 170 Los Carneros Way\, Goleta\, CA\, 93117\, United States
CATEGORIES:Yoga
END:VEVENT
BEGIN:VEVENT
DTSTART;TZID=America/Los_Angeles:20300722T173000
DTEND;TZID=America/Los_Angeles:20300722T182500
DTSTAMP:20260424T094506
CREATED:20251118T234330Z
LAST-MODIFIED:20251118T234332Z
UID:10008913-1910971800-1910975100@gvac.com
SUMMARY:Power Vinyasa Yoga\, Ian
DESCRIPTION:
URL:https://gvac.com/event/power-vinyasa-yoga-sepideh-2-2/2030-07-22/
LOCATION:Goleta Valley Athletic Club\, 170 Los Carneros Way\, Goleta\, CA\, 93117\, United States
CATEGORIES:Yoga
END:VEVENT
BEGIN:VEVENT
DTSTART;TZID=America/Los_Angeles:20300723T173000
DTEND;TZID=America/Los_Angeles:20300723T182500
DTSTAMP:20260424T094506
CREATED:20250401T230915Z
LAST-MODIFIED:20250401T230915Z
UID:10008925-1911058200-1911061500@gvac.com
SUMMARY:Power Flow Yoga\, Sarah M.
DESCRIPTION:
URL:https://gvac.com/event/power-flow-yoga-sarah-m/2030-07-23/
LOCATION:Goleta Valley Athletic Club\, 170 Los Carneros Way\, Goleta\, CA\, 93117\, United States
CATEGORIES:Yoga
END:VEVENT
BEGIN:VEVENT
DTSTART;TZID=America/Los_Angeles:20300724T173000
DTEND;TZID=America/Los_Angeles:20300724T182500
DTSTAMP:20260424T094506
CREATED:20251118T234232Z
LAST-MODIFIED:20251118T234235Z
UID:10008927-1911144600-1911147900@gvac.com
SUMMARY:Yoga Sculpt\, Krista
DESCRIPTION:
URL:https://gvac.com/event/vinyasa-flow-yoga-nadia-2/2030-07-24/
LOCATION:Goleta Valley Athletic Club\, 170 Los Carneros Way\, Goleta\, CA\, 93117\, United States
CATEGORIES:Yoga
END:VEVENT
BEGIN:VEVENT
DTSTART;TZID=America/Los_Angeles:20300725T173000
DTEND;TZID=America/Los_Angeles:20300725T183000
DTSTAMP:20260424T094506
CREATED:20251222T222624Z
LAST-MODIFIED:20251231T234714Z
UID:10011594-1911231000-1911234600@gvac.com
SUMMARY:Vinyasa Yoga\, Sarah E.
DESCRIPTION:
URL:https://gvac.com/event/vinyasa-yoga-morgan-3-2-2/2030-07-25/
LOCATION:Goleta Valley Athletic Club\, 170 Los Carneros Way\, Goleta\, CA\, 93117\, United States
CATEGORIES:Yoga
END:VEVENT
BEGIN:VEVENT
DTSTART;TZID=America/Los_Angeles:20300727T091500
DTEND;TZID=America/Los_Angeles:20300727T101000
DTSTAMP:20260424T094506
CREATED:20250929T183721Z
LAST-MODIFIED:20250929T183724Z
UID:10009231-1911374100-1911377400@gvac.com
SUMMARY:Vinyasa Yoga\, Ian
DESCRIPTION:
URL:https://gvac.com/event/vinyasa-yoga-morgan-2-2-2/2030-07-27/
LOCATION:Goleta Valley Athletic Club\, 170 Los Carneros Way\, Goleta\, CA\, 93117\, United States
CATEGORIES:Yoga
END:VEVENT
BEGIN:VEVENT
DTSTART;TZID=America/Los_Angeles:20300729T173000
DTEND;TZID=America/Los_Angeles:20300729T182500
DTSTAMP:20260424T094506
CREATED:20251118T234330Z
LAST-MODIFIED:20251118T234332Z
UID:10008940-1911576600-1911579900@gvac.com
SUMMARY:Power Vinyasa Yoga\, Ian
DESCRIPTION:
URL:https://gvac.com/event/power-vinyasa-yoga-sepideh-2-2/2030-07-29/
LOCATION:Goleta Valley Athletic Club\, 170 Los Carneros Way\, Goleta\, CA\, 93117\, United States
CATEGORIES:Yoga
END:VEVENT
BEGIN:VEVENT
DTSTART;TZID=America/Los_Angeles:20300730T173000
DTEND;TZID=America/Los_Angeles:20300730T182500
DTSTAMP:20260424T094506
CREATED:20250401T230915Z
LAST-MODIFIED:20250401T230915Z
UID:10008953-1911663000-1911666300@gvac.com
SUMMARY:Power Flow Yoga\, Sarah M.
DESCRIPTION:
URL:https://gvac.com/event/power-flow-yoga-sarah-m/2030-07-30/
LOCATION:Goleta Valley Athletic Club\, 170 Los Carneros Way\, Goleta\, CA\, 93117\, United States
CATEGORIES:Yoga
END:VEVENT
END:VCALENDAR