BEGIN:VCALENDAR
VERSION:2.0
PRODID:-//Goleta Valley Athletic Club | Best Gym in Santa Barbara - ECPv6.15.20//NONSGML v1.0//EN
CALSCALE:GREGORIAN
METHOD:PUBLISH
X-WR-CALNAME:Goleta Valley Athletic Club | Best Gym in Santa Barbara
X-ORIGINAL-URL:https://gvac.com
X-WR-CALDESC:Events for Goleta Valley Athletic Club | Best Gym in Santa Barbara
REFRESH-INTERVAL;VALUE=DURATION:PT1H
X-Robots-Tag:noindex
X-PUBLISHED-TTL:PT1H
BEGIN:VTIMEZONE
TZID:America/Los_Angeles
BEGIN:DAYLIGHT
TZOFFSETFROM:-0800
TZOFFSETTO:-0700
TZNAME:PDT
DTSTART:20290311T100000
END:DAYLIGHT
BEGIN:STANDARD
TZOFFSETFROM:-0700
TZOFFSETTO:-0800
TZNAME:PST
DTSTART:20291104T090000
END:STANDARD
BEGIN:DAYLIGHT
TZOFFSETFROM:-0800
TZOFFSETTO:-0700
TZNAME:PDT
DTSTART:20300310T100000
END:DAYLIGHT
BEGIN:STANDARD
TZOFFSETFROM:-0700
TZOFFSETTO:-0800
TZNAME:PST
DTSTART:20301103T090000
END:STANDARD
BEGIN:DAYLIGHT
TZOFFSETFROM:-0800
TZOFFSETTO:-0700
TZNAME:PDT
DTSTART:20310309T100000
END:DAYLIGHT
BEGIN:STANDARD
TZOFFSETFROM:-0700
TZOFFSETTO:-0800
TZNAME:PST
DTSTART:20311102T090000
END:STANDARD
END:VTIMEZONE
BEGIN:VEVENT
DTSTART;TZID=America/Los_Angeles:20300731T173000
DTEND;TZID=America/Los_Angeles:20300731T182500
DTSTAMP:20260424T110248
CREATED:20251118T234232Z
LAST-MODIFIED:20251118T234235Z
UID:10008955-1911749400-1911752700@gvac.com
SUMMARY:Yoga Sculpt\, Krista
DESCRIPTION:
URL:https://gvac.com/event/vinyasa-flow-yoga-nadia-2/2030-07-31/
LOCATION:Goleta Valley Athletic Club\, 170 Los Carneros Way\, Goleta\, CA\, 93117\, United States
CATEGORIES:Yoga
END:VEVENT
BEGIN:VEVENT
DTSTART;TZID=America/Los_Angeles:20300801T173000
DTEND;TZID=America/Los_Angeles:20300801T183000
DTSTAMP:20260424T110248
CREATED:20251222T222624Z
LAST-MODIFIED:20251231T234714Z
UID:10011595-1911835800-1911839400@gvac.com
SUMMARY:Vinyasa Yoga\, Sarah E.
DESCRIPTION:
URL:https://gvac.com/event/vinyasa-yoga-morgan-3-2-2/2030-08-01/
LOCATION:Goleta Valley Athletic Club\, 170 Los Carneros Way\, Goleta\, CA\, 93117\, United States
CATEGORIES:Yoga
END:VEVENT
BEGIN:VEVENT
DTSTART;TZID=America/Los_Angeles:20300803T091500
DTEND;TZID=America/Los_Angeles:20300803T101000
DTSTAMP:20260424T110248
CREATED:20250929T183721Z
LAST-MODIFIED:20250929T183724Z
UID:10009232-1911978900-1911982200@gvac.com
SUMMARY:Vinyasa Yoga\, Ian
DESCRIPTION:
URL:https://gvac.com/event/vinyasa-yoga-morgan-2-2-2/2030-08-03/
LOCATION:Goleta Valley Athletic Club\, 170 Los Carneros Way\, Goleta\, CA\, 93117\, United States
CATEGORIES:Yoga
END:VEVENT
BEGIN:VEVENT
DTSTART;TZID=America/Los_Angeles:20300805T173000
DTEND;TZID=America/Los_Angeles:20300805T182500
DTSTAMP:20260424T110248
CREATED:20251118T234330Z
LAST-MODIFIED:20251118T234332Z
UID:10008967-1912181400-1912184700@gvac.com
SUMMARY:Power Vinyasa Yoga\, Ian
DESCRIPTION:
URL:https://gvac.com/event/power-vinyasa-yoga-sepideh-2-2/2030-08-05/
LOCATION:Goleta Valley Athletic Club\, 170 Los Carneros Way\, Goleta\, CA\, 93117\, United States
CATEGORIES:Yoga
END:VEVENT
BEGIN:VEVENT
DTSTART;TZID=America/Los_Angeles:20300806T173000
DTEND;TZID=America/Los_Angeles:20300806T182500
DTSTAMP:20260424T110248
CREATED:20250401T230915Z
LAST-MODIFIED:20250401T230915Z
UID:10009246-1912267800-1912271100@gvac.com
SUMMARY:Power Flow Yoga\, Sarah M.
DESCRIPTION:
URL:https://gvac.com/event/power-flow-yoga-sarah-m/2030-08-06/
LOCATION:Goleta Valley Athletic Club\, 170 Los Carneros Way\, Goleta\, CA\, 93117\, United States
CATEGORIES:Yoga
END:VEVENT
BEGIN:VEVENT
DTSTART;TZID=America/Los_Angeles:20300807T173000
DTEND;TZID=America/Los_Angeles:20300807T182500
DTSTAMP:20260424T110248
CREATED:20251118T234232Z
LAST-MODIFIED:20251118T234235Z
UID:10009248-1912354200-1912357500@gvac.com
SUMMARY:Yoga Sculpt\, Krista
DESCRIPTION:
URL:https://gvac.com/event/vinyasa-flow-yoga-nadia-2/2030-08-07/
LOCATION:Goleta Valley Athletic Club\, 170 Los Carneros Way\, Goleta\, CA\, 93117\, United States
CATEGORIES:Yoga
END:VEVENT
BEGIN:VEVENT
DTSTART;TZID=America/Los_Angeles:20300808T173000
DTEND;TZID=America/Los_Angeles:20300808T183000
DTSTAMP:20260424T110248
CREATED:20251222T222624Z
LAST-MODIFIED:20251231T234714Z
UID:10011596-1912440600-1912444200@gvac.com
SUMMARY:Vinyasa Yoga\, Sarah E.
DESCRIPTION:
URL:https://gvac.com/event/vinyasa-yoga-morgan-3-2-2/2030-08-08/
LOCATION:Goleta Valley Athletic Club\, 170 Los Carneros Way\, Goleta\, CA\, 93117\, United States
CATEGORIES:Yoga
END:VEVENT
BEGIN:VEVENT
DTSTART;TZID=America/Los_Angeles:20300810T091500
DTEND;TZID=America/Los_Angeles:20300810T101000
DTSTAMP:20260424T110248
CREATED:20250929T183721Z
LAST-MODIFIED:20250929T183724Z
UID:10009350-1912583700-1912587000@gvac.com
SUMMARY:Vinyasa Yoga\, Ian
DESCRIPTION:
URL:https://gvac.com/event/vinyasa-yoga-morgan-2-2-2/2030-08-10/
LOCATION:Goleta Valley Athletic Club\, 170 Los Carneros Way\, Goleta\, CA\, 93117\, United States
CATEGORIES:Yoga
END:VEVENT
BEGIN:VEVENT
DTSTART;TZID=America/Los_Angeles:20300812T173000
DTEND;TZID=America/Los_Angeles:20300812T182500
DTSTAMP:20260424T110249
CREATED:20251118T234330Z
LAST-MODIFIED:20251118T234332Z
UID:10009373-1912786200-1912789500@gvac.com
SUMMARY:Power Vinyasa Yoga\, Ian
DESCRIPTION:
URL:https://gvac.com/event/power-vinyasa-yoga-sepideh-2-2/2030-08-12/
LOCATION:Goleta Valley Athletic Club\, 170 Los Carneros Way\, Goleta\, CA\, 93117\, United States
CATEGORIES:Yoga
END:VEVENT
BEGIN:VEVENT
DTSTART;TZID=America/Los_Angeles:20300813T173000
DTEND;TZID=America/Los_Angeles:20300813T182500
DTSTAMP:20260424T110249
CREATED:20250401T230915Z
LAST-MODIFIED:20250401T230915Z
UID:10009270-1912872600-1912875900@gvac.com
SUMMARY:Power Flow Yoga\, Sarah M.
DESCRIPTION:
URL:https://gvac.com/event/power-flow-yoga-sarah-m/2030-08-13/
LOCATION:Goleta Valley Athletic Club\, 170 Los Carneros Way\, Goleta\, CA\, 93117\, United States
CATEGORIES:Yoga
END:VEVENT
BEGIN:VEVENT
DTSTART;TZID=America/Los_Angeles:20300814T173000
DTEND;TZID=America/Los_Angeles:20300814T182500
DTSTAMP:20260424T110249
CREATED:20251118T234232Z
LAST-MODIFIED:20251118T234235Z
UID:10009272-1912959000-1912962300@gvac.com
SUMMARY:Yoga Sculpt\, Krista
DESCRIPTION:
URL:https://gvac.com/event/vinyasa-flow-yoga-nadia-2/2030-08-14/
LOCATION:Goleta Valley Athletic Club\, 170 Los Carneros Way\, Goleta\, CA\, 93117\, United States
CATEGORIES:Yoga
END:VEVENT
BEGIN:VEVENT
DTSTART;TZID=America/Los_Angeles:20300815T173000
DTEND;TZID=America/Los_Angeles:20300815T183000
DTSTAMP:20260424T110249
CREATED:20251222T222624Z
LAST-MODIFIED:20251231T234714Z
UID:10011597-1913045400-1913049000@gvac.com
SUMMARY:Vinyasa Yoga\, Sarah E.
DESCRIPTION:
URL:https://gvac.com/event/vinyasa-yoga-morgan-3-2-2/2030-08-15/
LOCATION:Goleta Valley Athletic Club\, 170 Los Carneros Way\, Goleta\, CA\, 93117\, United States
CATEGORIES:Yoga
END:VEVENT
BEGIN:VEVENT
DTSTART;TZID=America/Los_Angeles:20300817T091500
DTEND;TZID=America/Los_Angeles:20300817T101000
DTSTAMP:20260424T110249
CREATED:20250929T183721Z
LAST-MODIFIED:20250929T183724Z
UID:10009351-1913188500-1913191800@gvac.com
SUMMARY:Vinyasa Yoga\, Ian
DESCRIPTION:
URL:https://gvac.com/event/vinyasa-yoga-morgan-2-2-2/2030-08-17/
LOCATION:Goleta Valley Athletic Club\, 170 Los Carneros Way\, Goleta\, CA\, 93117\, United States
CATEGORIES:Yoga
END:VEVENT
BEGIN:VEVENT
DTSTART;TZID=America/Los_Angeles:20300819T173000
DTEND;TZID=America/Los_Angeles:20300819T182500
DTSTAMP:20260424T110249
CREATED:20251118T234330Z
LAST-MODIFIED:20251118T234332Z
UID:10009374-1913391000-1913394300@gvac.com
SUMMARY:Power Vinyasa Yoga\, Ian
DESCRIPTION:
URL:https://gvac.com/event/power-vinyasa-yoga-sepideh-2-2/2030-08-19/
LOCATION:Goleta Valley Athletic Club\, 170 Los Carneros Way\, Goleta\, CA\, 93117\, United States
CATEGORIES:Yoga
END:VEVENT
BEGIN:VEVENT
DTSTART;TZID=America/Los_Angeles:20300820T173000
DTEND;TZID=America/Los_Angeles:20300820T182500
DTSTAMP:20260424T110249
CREATED:20250401T230915Z
LAST-MODIFIED:20250401T230915Z
UID:10009294-1913477400-1913480700@gvac.com
SUMMARY:Power Flow Yoga\, Sarah M.
DESCRIPTION:
URL:https://gvac.com/event/power-flow-yoga-sarah-m/2030-08-20/
LOCATION:Goleta Valley Athletic Club\, 170 Los Carneros Way\, Goleta\, CA\, 93117\, United States
CATEGORIES:Yoga
END:VEVENT
BEGIN:VEVENT
DTSTART;TZID=America/Los_Angeles:20300821T173000
DTEND;TZID=America/Los_Angeles:20300821T182500
DTSTAMP:20260424T110249
CREATED:20251118T234232Z
LAST-MODIFIED:20251118T234235Z
UID:10009296-1913563800-1913567100@gvac.com
SUMMARY:Yoga Sculpt\, Krista
DESCRIPTION:
URL:https://gvac.com/event/vinyasa-flow-yoga-nadia-2/2030-08-21/
LOCATION:Goleta Valley Athletic Club\, 170 Los Carneros Way\, Goleta\, CA\, 93117\, United States
CATEGORIES:Yoga
END:VEVENT
BEGIN:VEVENT
DTSTART;TZID=America/Los_Angeles:20300822T173000
DTEND;TZID=America/Los_Angeles:20300822T183000
DTSTAMP:20260424T110249
CREATED:20251222T222624Z
LAST-MODIFIED:20251231T234714Z
UID:10011598-1913650200-1913653800@gvac.com
SUMMARY:Vinyasa Yoga\, Sarah E.
DESCRIPTION:
URL:https://gvac.com/event/vinyasa-yoga-morgan-3-2-2/2030-08-22/
LOCATION:Goleta Valley Athletic Club\, 170 Los Carneros Way\, Goleta\, CA\, 93117\, United States
CATEGORIES:Yoga
END:VEVENT
BEGIN:VEVENT
DTSTART;TZID=America/Los_Angeles:20300824T091500
DTEND;TZID=America/Los_Angeles:20300824T101000
DTSTAMP:20260424T110249
CREATED:20250929T183721Z
LAST-MODIFIED:20250929T183724Z
UID:10009352-1913793300-1913796600@gvac.com
SUMMARY:Vinyasa Yoga\, Ian
DESCRIPTION:
URL:https://gvac.com/event/vinyasa-yoga-morgan-2-2-2/2030-08-24/
LOCATION:Goleta Valley Athletic Club\, 170 Los Carneros Way\, Goleta\, CA\, 93117\, United States
CATEGORIES:Yoga
END:VEVENT
BEGIN:VEVENT
DTSTART;TZID=America/Los_Angeles:20300826T173000
DTEND;TZID=America/Los_Angeles:20300826T182500
DTSTAMP:20260424T110249
CREATED:20251118T234330Z
LAST-MODIFIED:20251118T234332Z
UID:10009375-1913995800-1913999100@gvac.com
SUMMARY:Power Vinyasa Yoga\, Ian
DESCRIPTION:
URL:https://gvac.com/event/power-vinyasa-yoga-sepideh-2-2/2030-08-26/
LOCATION:Goleta Valley Athletic Club\, 170 Los Carneros Way\, Goleta\, CA\, 93117\, United States
CATEGORIES:Yoga
END:VEVENT
BEGIN:VEVENT
DTSTART;TZID=America/Los_Angeles:20300827T173000
DTEND;TZID=America/Los_Angeles:20300827T182500
DTSTAMP:20260424T110249
CREATED:20250401T230915Z
LAST-MODIFIED:20250401T230915Z
UID:10009318-1914082200-1914085500@gvac.com
SUMMARY:Power Flow Yoga\, Sarah M.
DESCRIPTION:
URL:https://gvac.com/event/power-flow-yoga-sarah-m/2030-08-27/
LOCATION:Goleta Valley Athletic Club\, 170 Los Carneros Way\, Goleta\, CA\, 93117\, United States
CATEGORIES:Yoga
END:VEVENT
BEGIN:VEVENT
DTSTART;TZID=America/Los_Angeles:20300828T173000
DTEND;TZID=America/Los_Angeles:20300828T182500
DTSTAMP:20260424T110249
CREATED:20251118T234232Z
LAST-MODIFIED:20251118T234235Z
UID:10009320-1914168600-1914171900@gvac.com
SUMMARY:Yoga Sculpt\, Krista
DESCRIPTION:
URL:https://gvac.com/event/vinyasa-flow-yoga-nadia-2/2030-08-28/
LOCATION:Goleta Valley Athletic Club\, 170 Los Carneros Way\, Goleta\, CA\, 93117\, United States
CATEGORIES:Yoga
END:VEVENT
BEGIN:VEVENT
DTSTART;TZID=America/Los_Angeles:20300829T173000
DTEND;TZID=America/Los_Angeles:20300829T183000
DTSTAMP:20260424T110249
CREATED:20251222T222624Z
LAST-MODIFIED:20251231T234714Z
UID:10011599-1914255000-1914258600@gvac.com
SUMMARY:Vinyasa Yoga\, Sarah E.
DESCRIPTION:
URL:https://gvac.com/event/vinyasa-yoga-morgan-3-2-2/2030-08-29/
LOCATION:Goleta Valley Athletic Club\, 170 Los Carneros Way\, Goleta\, CA\, 93117\, United States
CATEGORIES:Yoga
END:VEVENT
BEGIN:VEVENT
DTSTART;TZID=America/Los_Angeles:20300831T091500
DTEND;TZID=America/Los_Angeles:20300831T101000
DTSTAMP:20260424T110249
CREATED:20250929T183721Z
LAST-MODIFIED:20250929T183724Z
UID:10009353-1914398100-1914401400@gvac.com
SUMMARY:Vinyasa Yoga\, Ian
DESCRIPTION:
URL:https://gvac.com/event/vinyasa-yoga-morgan-2-2-2/2030-08-31/
LOCATION:Goleta Valley Athletic Club\, 170 Los Carneros Way\, Goleta\, CA\, 93117\, United States
CATEGORIES:Yoga
END:VEVENT
END:VCALENDAR